Workbook

Sheet 7-12_2012
A1: Rozdělení prostředků z dotačního programu MŠMT PROGRAM č. V „Organizace sportu“ - projekt „Přijď veslovat“ na období 7-12/2012
A2: Praha, červen 2012
A3: Autor: L.Kubrycht, D.Macháček
A4: Kontrola počtu závodníků z 6/2012: L.Kubrycht
A6: Celkový objem financí na Projekt Přijď veslovat podle rozpočtu na rok 2012: | D6: =5400000-70000 -> 5330000
A7: Společné výdaje v roce 2012: | D7: 230000
A8: K distribuci jednotlivýcm klubům v roce 2012: | D8: =D6-D7 -> 5100000
D10: odměny trenérům, verze kombinovaná v 7-12/2012 | G10: materiál, VT, atd. za 7-12/2012 | H10: výplata za 7-12/2012
A11: počet unicitních závodníků z p-oblastí 2012 | D11: paušál na klub | E11: za závodníka | F11: celkem
A12: VK SMÍCHOV | B12: 58 | D12: =$D$46/2 -> 40800 | E12: =B12*E46/2 -> 85491.329 | F12: =(D12+E12) -> 126291.33 | G12: =B12*$G$46/2 -> 85491.329 | H12: =G12+F12 -> 211782.66
A13: ČVK PRAHA | B13: 38 | D13: =$D$46/2 -> 40800 | E13: =B13*$E$46/2 -> 56011.561 | F13: =(D13+E13) -> 96811.561 | G13: =B13*$G$46/2 -> 56011.561 | H13: =G13+F13 -> 152823.12
A14: VK OLOMOUC | B14: 38 | D14: =$D$46/2 -> 40800 | E14: =B14*$E$46/2 -> 56011.561 | F14: =(D14+E14) -> 96811.561 | G14: =B14*$G$46/2 -> 56011.561 | H14: =G14+F14 -> 152823.12
A15: ČVK PARDUBICE | B15: 34 | D15: =$D$46/2 -> 40800 | E15: =B15*$E$46/2 -> 50115.607 | F15: =(D15+E15) -> 90915.607 | G15: =B15*$G$46/2 -> 50115.607 | H15: =G15+F15 -> 141031.21
A16: BOHEMIANS PRAHA | B16: 25 | D16: =$D$46/2 -> 40800 | E16: =B16*$E$46/2 -> 36849.711 | F16: =(D16+E16) -> 77649.711 | G16: =B16*$G$46/2 -> 36849.711 | H16: =G16+F16 -> 114499.42
A17: VK BLESK | B17: 23 | D17: =$D$46/2 -> 40800 | E17: =B17*$E$46/2 -> 33901.734 | F17: =(D17+E17) -> 74701.734 | G17: =B17*$G$46/2 -> 33901.734 | H17: =G17+F17 -> 108603.47
A18: JISKRA OTROKOVICE | B18: 22 | D18: =$D$46/2 -> 40800 | E18: =B18*$E$46/2 -> 32427.746 | F18: =(D18+E18) -> 73227.746 | G18: =B18*$G$46/2 -> 32427.746 | H18: =G18+F18 -> 105655.49
A19: VK LYSÁ n.L. | B19: 22 | D19: =$D$46/2 -> 40800 | E19: =B19*$E$46/2 -> 32427.746 | F19: =(D19+E19) -> 73227.746 | G19: =B19*$G$46/2 -> 32427.746 | H19: =G19+F19 -> 105655.49
A20: JISKRA TŘEBOŇ | B20: 20 | D20: =$D$46/2 -> 40800 | E20: =B20*$E$46/2 -> 29479.769 | F20: =(D20+E20) -> 70279.769 | G20: =B20*$G$46/2 -> 29479.769 | H20: =G20+F20 -> 99759.538
A21: VK OHŘE LOUNY | B21: 19 | D21: =$D$46/2 -> 40800 | E21: =B21*$E$46/2 -> 28005.78 | F21: =(D21+E21) -> 68805.78 | G21: =B21*$G$46/2 -> 28005.78 | H21: =G21+F21 -> 96811.561
A22: SLAVOJ LITOMĚŘICE | B22: 18 | D22: =$D$46/2 -> 40800 | E22: =B22*$E$46/2 -> 26531.792 | F22: =(D22+E22) -> 67331.792 | G22: =B22*$G$46/2 -> 26531.792 | H22: =G22+F22 -> 93863.584
A23: VK VAJGAR J.HRADEC | B23: 18 | D23: =$D$46/2 -> 40800 | E23: =B23*$E$46/2 -> 26531.792 | F23: =(D23+E23) -> 67331.792 | G23: =B23*$G$46/2 -> 26531.792 | H23: =G23+F23 -> 93863.584
A24: VK HODONÍN | B24: 17 | D24: =$D$46/2 -> 40800 | E24: =B24*$E$46/2 -> 25057.803 | F24: =(D24+E24) -> 65857.803 | G24: =B24*$G$46/2 -> 25057.803 | H24: =G24+F24 -> 90915.607
... A35: VK SEPAP ŠTĚTÍ | B35: 8 | D35: =$D$46/2 -> 40800 | E35: =B35*$E$46/2 -> 11791.908 | F35: =(D35+E35) -> 52591.908 | G35: =B35*$G$46/2 -> 11791.908 | H35: =G35+F35 -> 64383.815
A36: PERUN OSTRAVA | B36: 8 | C36: =COUNT(B10:B36) -> 25 | D36: =$D$46/2 -> 40800 | E36: =B36*$E$46/2 -> 11791.908 | F36: =(D36+E36) -> 52591.908 | G36: =B36*$G$46/2 -> 11791.908 | H36: =G36+F36 -> 64383.815
A37: VK SLOVÁCKO UH. HRADIŠTĚ | B37: 7 | E37: =B37*$E$46/2 -> 10317.919 | F37: =(D37+E37) -> 10317.919 | G37: =B37*$G$46/2 -> 10317.919 | H37: =G37+F37 -> 20635.838
A38: VK MORÁVIA UH.HRADIŠTĚ | B38: 5 | E38: =B38*$E$46/2 -> 7369.9422 | F38: =(D38+E38) -> 7369.9422 | G38: =B38*$G$46/2 -> 7369.9422 | H38: =G38+F38 -> 14739.884
A39: VK SLAVIA DĚČÍN | B39: 4 | E39: =B39*$E$46/2 -> 5895.9538 | F39: =(D39+E39) -> 5895.9538 | G39: =B39*$G$46/2 -> 5895.9538 | H39: =G39+F39 -> 11791.908
A40: ČAC ROUDNICE n.L | B40: 4 | E40: =B40*$E$46/2 -> 5895.9538 | F40: =(D40+E40) -> 5895.9538 | G40: =B40*$G$46/2 -> 5895.9538 | H40: =G40+F40 -> 11791.908
A41: LOKOMOTIVA NYMBURK | B41: 3 | E41: =B41*$E$46/2 -> 4421.9653 | F41: =(D41+E41) -> 4421.9653 | G41: =B41*$G$46/2 -> 4421.9653 | H41: =G41+F41 -> 8843.9306
A42: Celkem: | B42: =SUM(B12:B41) -> 519 | C42: =SUM(C30:C41) -> 25 | D42: =SUM(D12:D41) -> 1020000 | E42: =SUM(E12:E41) -> 765000 | F42: =SUM(F12:F41) -> 1785000 | G42: =SUM(G12:G41) -> 765000 | H42: =SUM(H12:H41) -> 2550000
A44: verze dělení | B44: 0.7 | D44: 0.4 | E44: =F44-D44 -> 0.3 | F44: =B44 -> 0.7 | G44: =1-F44 -> 0.3 | H44: =H45/H45 -> 1
D45: =H45*D44 -> 2040000 | E45: =H45*E44 -> 1530000 | F45: =H45*F44 -> 3570000 | G45: =H45*G44 -> 1530000 | H45: =D8 -> 5100000 | J45: =#REF!*#REF! -> #REF! | K45: =#REF!*#REF! -> #REF! | N45: =#REF! -> #REF!
D46: =D45/C42 -> 81600 | E46: =E45/B42 -> 2947.9769 | F46: =F45/B42 -> 6878.6127 | G46: =G45/B42 -> 2947.9769 | H46: =H45/B42 -> 9826.5896 | J46: =J45/C30 -> #REF! | K46: =K45/B42 -> #REF!

Sheet 1-6_2012
A1: Rozdělení prostředků z dotačního programu MŠMT PROGRAM č. V „Organizace sportu“ - projekt „Přijď veslovat“ na období 1-6/2012
A2: Praha, květen 2012
A3: Autor: L.Kubrycht, D.Macháček
A4: Kontrola počtu závodníků z 6/2011: L.Kubrycht
A6: Celkový objem financí na Projekt Přijď veslovat podle rozpočtu na rok 2012: | D6: =5400000-70000 -> 5330000
A7: Společné výdaje v roce 2012: | D7: 230000
A8: K distribuci jednotlivýcm klubům v roce 2012: | D8: =D6-D7 -> 5100000
D10: odměny trenérům, verze kombinovaná v 1-6/2012 | G10: materiál, VT, atd. za 1-6/2012 | H10: výplata za 1-6/2012
A11: počet unicitních závodníků z p-oblastí 2011 | D11: paušál na klub | E11: za závodníka | F11: celkem
A12: VK SMÍCHOV | B12: 50 | D12: =$D$45/2 -> 35172.414 | E12: =B12*E45/2 -> 105662.98 | F12: =(D12+E12) -> 140835.4 | G12: =B12*$G$45/2 -> 105662.98 | H12: =G12+F12 -> 246498.38
A13: VK OLOMOUC | B13: 22 | D13: =$D$45/2 -> 35172.414 | E13: =B13*$E$45/2 -> 46491.713 | F13: =(D13+E13) -> 81664.127 | G13: =B13*$G$45/2 -> 46491.713 | H13: =G13+F13 -> 128155.84
A14: JISKRA OTROKOVICE | B14: 21 | D14: =$D$45/2 -> 35172.414 | E14: =B14*$E$45/2 -> 44378.453 | F14: =(D14+E14) -> 79550.867 | G14: =B14*$G$45/2 -> 44378.453 | H14: =G14+F14 -> 123929.32
A15: VK BLESK | B15: 19 | D15: =$D$45/2 -> 35172.414 | E15: =B15*$E$45/2 -> 40151.934 | F15: =(D15+E15) -> 75324.347 | G15: =B15*$G$45/2 -> 40151.934 | H15: =G15+F15 -> 115476.28
A16: ČVK PARDUBICE | B16: 18 | D16: =$D$45/2 -> 35172.414 | E16: =B16*$E$45/2 -> 38038.674 | F16: =(D16+E16) -> 73211.088 | G16: =B16*$G$45/2 -> 38038.674 | H16: =G16+F16 -> 111249.76
A17: ČVK PRAHA | B17: 18 | D17: =$D$45/2 -> 35172.414 | E17: =B17*$E$45/2 -> 38038.674 | F17: =(D17+E17) -> 73211.088 | G17: =B17*$G$45/2 -> 38038.674 | H17: =G17+F17 -> 111249.76
A18: VK LYSÁ n.L. | B18: 18 | D18: =$D$45/2 -> 35172.414 | E18: =B18*$E$45/2 -> 38038.674 | F18: =(D18+E18) -> 73211.088 | G18: =B18*$G$45/2 -> 38038.674 | H18: =G18+F18 -> 111249.76
A19: BOHEMIANS PRAHA | B19: 17 | D19: =$D$45/2 -> 35172.414 | E19: =B19*$E$45/2 -> 35925.414 | F19: =(D19+E19) -> 71097.828 | G19: =B19*$G$45/2 -> 35925.414 | H19: =G19+F19 -> 107023.24
A20: SLAVOJ LITOMĚŘICE | B20: 15 | D20: =$D$45/2 -> 35172.414 | E20: =B20*$E$45/2 -> 31698.895 | F20: =(D20+E20) -> 66871.309 | G20: =B20*$G$45/2 -> 31698.895 | H20: =G20+F20 -> 98570.204
A21: VK PŘEROV | B21: 15 | D21: =$D$45/2 -> 35172.414 | E21: =B21*$E$45/2 -> 31698.895 | F21: =(D21+E21) -> 66871.309 | G21: =B21*$G$45/2 -> 31698.895 | H21: =G21+F21 -> 98570.204
A22: JISKRA TŘEBOŇ | B22: 13 | D22: =$D$45/2 -> 35172.414 | E22: =B22*$E$45/2 -> 27472.376 | F22: =(D22+E22) -> 62644.789 | G22: =B22*$G$45/2 -> 27472.376 | H22: =G22+F22 -> 90117.165
A23: LOKOMOTIVA BEROUN | B23: 13 | D23: =$D$45/2 -> 35172.414 | E23: =B23*$E$45/2 -> 27472.376 | F23: =(D23+E23) -> 62644.789 | G23: =B23*$G$45/2 -> 27472.376 | H23: =G23+F23 -> 90117.165
A24: SVK BŘECLAV | B24: 13 | D24: =$D$45/2 -> 35172.414 | E24: =B24*$E$45/2 -> 27472.376 | F24: =(D24+E24) -> 62644.789 | G24: =B24*$G$45/2 -> 27472.376 | H24: =G24+F24 -> 90117.165
... A29: VK SLAVIA PRAHA | B29: 10 | D29: =$D$45/2 -> 35172.414 | E29: =B29*$E$45/2 -> 21132.597 | F29: =(D29+E29) -> 56305.01 | G29: =B29*$G$45/2 -> 21132.597 | H29: =G29+F29 -> 77437.607
A30: TJ NERATOVICE | B30: 9 | C30: =COUNT(B12:B30) -> 19 | D30: =$D$45/2 -> 35172.414 | E30: =B30*$E$45/2 -> 19019.337 | F30: =(D30+E30) -> 54191.751 | G30: =B30*$G$45/2 -> 19019.337 | H30: =G30+F30 -> 73211.088
A31: VK SEPAP ŠTĚTÍ | B31: 7 | D31: =$D$45/2 -> 35172.414 | E31: =B31*$E$45/2 -> 14792.818 | F31: =(D31+E31) -> 49965.231 | G31: =B31*$G$45/2 -> 14792.818 | H31: =G31+F31 -> 64758.049
A32: VK VAJGAR J.HRADEC | B32: 7 | D32: =$D$45/2 -> 35172.414 | E32: =B32*$E$45/2 -> 14792.818 | F32: =(D32+E32) -> 49965.231 | G32: =B32*$G$45/2 -> 14792.818 | H32: =G32+F32 -> 64758.049
A33: KV KONDOR BRANDÝS n.L. | B33: 6 | D33: =$D$45/2 -> 35172.414 | E33: =B33*$E$45/2 -> 12679.558 | F33: =(D33+E33) -> 47851.972 | G33: =B33*$G$45/2 -> 12679.558 | H33: =G33+F33 -> 60531.53
A34: VK MORÁVIA UH.HRADIŠTĚ | B34: 5 | D34: =$D$45/2 -> 35172.414 | E34: =B34*$E$45/2 -> 10566.298 | F34: =(D34+E34) -> 45738.712 | G34: =B34*$G$45/2 -> 10566.298 | H34: =G34+F34 -> 56305.01
A35: ČAC ROUDNICE n.L | B35: 4 | D35: =$D$45/2 -> 35172.414 | E35: =B35*$E$45/2 -> 8453.0387 | F35: =(D35+E35) -> 43625.452 | G35: =B35*$G$45/2 -> 8453.0387 | H35: =G35+F35 -> 52078.491
A36: LOKOMOTIVA NYMBURK | B36: 4 | D36: =$D$45/2 -> 35172.414 | E36: =B36*$E$45/2 -> 8453.0387 | F36: =(D36+E36) -> 43625.452 | G36: =B36*$G$45/2 -> 8453.0387 | H36: =G36+F36 -> 52078.491
A37: VK SLAVIA DĚČÍN | B37: 4 | D37: =$D$45/2 -> 35172.414 | E37: =B37*$E$45/2 -> 8453.0387 | F37: =(D37+E37) -> 43625.452 | G37: =B37*$G$45/2 -> 8453.0387 | H37: =G37+F37 -> 52078.491
A38: ČVK BRNO | B38: 3 | D38: =$D$45/2 -> 35172.414 | E38: =B38*$E$45/2 -> 6339.779 | F38: =(D38+E38) -> 41512.193 | G38: =B38*$G$45/2 -> 6339.779 | H38: =G38+F38 -> 47851.972
A39: LS BRNO | B39: 3 | D39: =$D$45/2 -> 35172.414 | E39: =B39*$E$45/2 -> 6339.779 | F39: =(D39+E39) -> 41512.193 | G39: =B39*$G$45/2 -> 6339.779 | H39: =G39+F39 -> 47851.972
A40: VK SLOVÁCKO UH. HRADIŠTĚ | B40: 1 | C40: =COUNT(B31:B40) -> 10 | D40: =$D$45/2 -> 35172.414 | E40: =B40*$E$45/2 -> 2113.2597 | F40: =(D40+E40) -> 37285.673 | G40: =B40*$G$45/2 -> 2113.2597 | H40: =G40+F40 -> 39398.933
A41: Celkem: | B41: =SUM(B12:B40) -> 362 | C41: =SUM(C30:C40) -> 29 | D41: =SUM(D12:D40) -> 1020000 | E41: =SUM(E12:E40) -> 765000 | F41: =SUM(F12:F40) -> 1785000 | G41: =SUM(G12:G40) -> 765000 | H41: =SUM(H12:H40) -> 2550000
A43: verze dělení | B43: 0.7 | D43: 0.4 | E43: =F43-D43 -> 0.3 | F43: =B43 -> 0.7 | G43: =1-F43 -> 0.3 | H43: =H44/H44 -> 1
D44: =H44*D43 -> 2040000 | E44: =H44*E43 -> 1530000 | F44: =H44*F43 -> 3570000 | G44: =H44*G43 -> 1530000 | H44: =D8 -> 5100000 | J44: =#REF!*#REF! -> #REF! | K44: =#REF!*#REF! -> #REF! | N44: =#REF! -> #REF!
D45: =D44/C41 -> 70344.828 | E45: =E44/B41 -> 4226.5193 | F45: =F44/B41 -> 9861.8785 | G45: =G44/B41 -> 4226.5193 | H45: =H44/B41 -> 14088.398 | J45: =J44/C30 -> #REF! | K45: =K44/B41 -> #REF!

Sheet Aktuální stav čerpání
A1: Celkový stav přidělení a čerpání prostředků z dotačního programu ČOV
A4: Praha, 16. prosince 2015
A5: Autor: D.Macháček, J. Johánek
A8: Zadání: transparentně rozdělit mezi veslařské kluby/oddíly prostředky z fondu ČOV tak, aby umožnili pořídit užitečný materiál či sportovní služby, které nelze nebo obtížně čerpat z jiných dotačních titul.Jedním z parametrů je aktivní klub, druhým počet registrovaných veslařů v kategoriích 7-18 let bez rozdílu výkonnosti.
A9: Program - LOTERIE ČOV
A10: Celkový objem financí : | C10: =SUM('1.tranše'!F10,'2.tranše'!F10,'3.tranše'!F10,'4.tranše'!F9,'5.tranše'!F8,'6.tranše'!F8,'7.tranše'!F8 ) -> 8373000
A12: Společné výdaje na mládež - bude čerpáno v letech 2015 - 2016 | C12: =SUM('4.tranše'!F12,'5.tranše'!F11,'6.tranše'!F11 ) -> 1000000
A13: Čerpáno | C13: 230270
A14: Zbývá | C14: =SUM(C12,-C13) -> 769730
B17: 2014-2015
A18: Klub | B18: Přiděleno | C18: Čerpáno | D18: Aktuální stav
A19: VK SMÍCHOV | B19: =SUM('1.tranše'!F17,'2.tranše'!F17,'3.tranše'!F17,'4.tranše'!F17, '5.tranše'!F17, '6.tranše'!F17, '7.tranše'!F17) -> 312452.56 | C19: 0 | D19: =(B19-C19) -> 312452.56
A20: ČVK PARDUBICE | B20: =SUM('1.tranše'!F18,'2.tranše'!F18,'3.tranše'!F18,'4.tranše'!F18, '5.tranše'!F18, '6.tranše'!F18, '7.tranše'!F18) -> 279279.45 | C20: 250000 | D20: =(B20-C20) -> 29279.455
A21: ČVK PRAHA | B21: =SUM('1.tranše'!F19,'2.tranše'!F19,'3.tranše'!F19,'4.tranše'!F19, '5.tranše'!F19, '6.tranše'!F19, '7.tranše'!F19) -> 257135.55 | C21: 0 | D21: =(B21-C21) -> 257135.55
A22: TJ BOHEMIANS PRAHA | B22: =SUM('1.tranše'!F20,'2.tranše'!F20,'3.tranše'!F20,'4.tranše'!F20, '5.tranše'!F20, '6.tranše'!F20, '7.tranše'!F20) -> 345974.3 | C22: 216704 | D22: =(B22-C22) -> 129270.3
A23: VK OLOMOUC | B23: =SUM('1.tranše'!F21,'2.tranše'!F21,'3.tranše'!F21,'4.tranše'!F21, '5.tranše'!F21, '6.tranše'!F21, '7.tranše'!F21) -> 257477.36 | C23: 140000 | D23: =(B23-C23) -> 117477.36
A24: TJ JISKRA OTROKOVICE | B24: =SUM('1.tranše'!F22,'2.tranše'!F22,'3.tranše'!F22,'4.tranše'!F22, '5.tranše'!F22, '6.tranše'!F22, '7.tranše'!F22) -> 264627.93 | C24: 41989 | D24: =(B24-C24) -> 222638.93
A25: VK LYSÁ n.L. | B25: =SUM('1.tranše'!F23,'2.tranše'!F23,'3.tranše'!F23,'4.tranše'!F23, '5.tranše'!F23, '6.tranše'!F23, '7.tranše'!F23) -> 223084.5 | C25: 177430 | D25: =(B25-C25) -> 45654.497
A26: VK SLAVOJ LITOMĚŘICE | B26: =SUM('1.tranše'!F24,'2.tranše'!F24,'3.tranše'!F24,'4.tranše'!F24, '5.tranše'!F24, '6.tranše'!F24, '7.tranše'!F24) -> 196277.23 | C26: 0 | D26: =(B26-C26) -> 196277.23
A27: VK BLESK | B27: =SUM('1.tranše'!F25,'2.tranše'!F25,'3.tranše'!F25,'4.tranše'!F25, '5.tranše'!F25, '6.tranše'!F25, '7.tranše'!F25) -> 220762.6 | C27: 0 | D27: =(B27-C27) -> 220762.6
A28: VK OHŘE LOUNY | B28: =SUM('1.tranše'!F26,'2.tranše'!F26,'3.tranše'!F26,'4.tranše'!F26, '5.tranše'!F26, '6.tranše'!F26, '7.tranše'!F26) -> 185534.6 | C28: 0 | D28: =(B28-C28) -> 185534.6
A29: KV KONDOR BRANDÝS n.L. | B29: =SUM('1.tranše'!F27,'2.tranše'!F27,'3.tranše'!F27,'4.tranše'!F27, '5.tranše'!F27, '6.tranše'!F27, '7.tranše'!F27) -> 189299.17 | C29: 0 | D29: =(B29-C29) -> 189299.17
A30: TJ LOKOMOTIVA BEROUN | B30: =SUM('1.tranše'!F28,'2.tranše'!F28,'3.tranše'!F28,'4.tranše'!F28, '5.tranše'!F28, '6.tranše'!F28, '7.tranše'!F28) -> 212107.82 | C30: 163536 | D30: =(B30-C30) -> 48571.819
... A57: UK ZLÍN | B57: =SUM('1.tranše'!F55,'2.tranše'!F55,'3.tranše'!F55,'4.tranše'!F55, '5.tranše'!F55, '6.tranše'!F55, '7.tranše'!F55) -> 0 | C57: 0 | D57: =(B57-C57) -> 0
A58: VŠSK MFF UK | B58: =SUM('6.tranše'!F56,'7.tranše'!F56) -> 32854.924 | C58: 0 | D58: =(B58-C58) -> 32854.924
A60: Kluby a oddíly celkem: | B60: =SUM(B19:B58) -> 7373000 | C60: =SUM(C19:C58) -> 2925139.4 | D60: =SUM(D19:D58) -> 4447860.6
A61: Nevyčerpáno celkem : | C61: =B60-C60 -> 4447860.6

Sheet Společné výdaje
B1: Společné výdaje ČVS
A3: 42352 | B3: Nákup 3 ks dětských skifů | C3: 230270

Sheet 1.tranše
A1: Rozdělení prostředků z dotačního programu ČOV na období 2014 - první tranše
A4: Praha, červen 2014
A5: Autor: D.Macháček, J. Johánek
A8: Zadání: transparentně rozdělit mezi veslařské kluby/oddíly prostředky z fondu ČOV tak, aby umožnili pořídit užitečný materiál či sportovní služby, které nelze nebo obtížně čerpat z jiných dotačních titul.Jedním z parametrů je aktivní klub, druhým počet registrovaných veslařů v kategoriích 7-18 let bez rozdílu výkonnosti.
B9: Program - LOTERIE ČOV
B10: Celkový objem financí : | F10: 972000
B14: počet unicitních závodníků do 18 let k 6-2014 | C14: index aktivity | D14: rozdělení 2014 - I.
D15: 0.66 | E15: =1-D15 -> 0.34
A16: Klub | B16: 2014 | D16: paušál na klub | E16: za závodníka | F16: celkem | G16: %
A17: VK SMÍCHOV | B17: 150 | C17: 1 | D17: =$F$10*$D$15/$C$56*C17 -> 18329.143 | E17: =$F$10*$E$15*B17/$B$56 -> 25552.577 | F17: =(D17+E17) -> 43881.72 | G17: =F17/$F$56 -> 0.045145803
A18: ČVK PARDUBICE | B18: 109 | C18: 1 | D18: =$F$10*$D$15/$C$56*C18 -> 18329.143 | E18: =$F$10*$E$15*B18/$B$56 -> 18568.206 | F18: =(D18+E18) -> 36897.349 | G18: =F18/$F$56 -> 0.037960236
A19: ČVK PRAHA | B19: 121 | C19: 1 | D19: =$F$10*$D$15/$C$56*C19 -> 18329.143 | E19: =$F$10*$E$15*B19/$B$56 -> 20612.412 | F19: =(D19+E19) -> 38941.555 | G19: =F19/$F$56 -> 0.040063328
A20: TJ BOHEMIANS PRAHA | B20: 129 | C20: 1 | D20: =$F$10*$D$15/$C$56*C20 -> 18329.143 | E20: =$F$10*$E$15*B20/$B$56 -> 21975.216 | F20: =(D20+E20) -> 40304.359 | G20: =F20/$F$56 -> 0.04146539
A21: VK OLOMOUC | B21: 85 | C21: 1 | D21: =$F$10*$D$15/$C$56*C21 -> 18329.143 | E21: =$F$10*$E$15*B21/$B$56 -> 14479.794 | F21: =(D21+E21) -> 32808.937 | G21: =F21/$F$56 -> 0.03375405
A22: TJ JISKRA OTROKOVICE | B22: 87 | C22: 1 | D22: =$F$10*$D$15/$C$56*C22 -> 18329.143 | E22: =$F$10*$E$15*B22/$B$56 -> 14820.495 | F22: =(D22+E22) -> 33149.638 | G22: =F22/$F$56 -> 0.034104566
A23: VK LYSÁ n.L. | B23: 62 | C23: 1 | D23: =$F$10*$D$15/$C$56*C23 -> 18329.143 | E23: =$F$10*$E$15*B23/$B$56 -> 10561.732 | F23: =(D23+E23) -> 28890.875 | G23: =F23/$F$56 -> 0.029723122
A24: VK SLAVOJ LITOMĚŘICE | B24: 42 | C24: 1 | D24: =$F$10*$D$15/$C$56*C24 -> 18329.143 | E24: =$F$10*$E$15*B24/$B$56 -> 7154.7216 | F24: =(D24+E24) -> 25483.865 | G24: =F24/$F$56 -> 0.026217968
A25: VK BLESK | B25: 112 | C25: 1 | D25: =$F$10*$D$15/$C$56*C25 -> 18329.143 | E25: =$F$10*$E$15*B25/$B$56 -> 19079.258 | F25: =(D25+E25) -> 37408.401 | G25: =F25/$F$56 -> 0.038486009
A26: VK OHŘE LOUNY | B26: 44 | C26: 1 | D26: =$F$10*$D$15/$C$56*C26 -> 18329.143 | E26: =$F$10*$E$15*B26/$B$56 -> 7495.4227 | F26: =(D26+E26) -> 25824.566 | G26: =F26/$F$56 -> 0.026568483
A27: KV KONDOR BRANDÝS n.L. | B27: 38 | C27: 1 | D27: =$F$10*$D$15/$C$56*C27 -> 18329.143 | E27: =$F$10*$E$15*B27/$B$56 -> 6473.3196 | F27: =(D27+E27) -> 24802.462 | G27: =F27/$F$56 -> 0.025516937
A28: TJ LOKOMOTIVA BEROUN | B28: 63 | C28: 1 | D28: =$F$10*$D$15/$C$56*C28 -> 18329.143 | E28: =$F$10*$E$15*B28/$B$56 -> 10732.082 | F28: =(D28+E28) -> 29061.225 | G28: =F28/$F$56 -> 0.02989838
... A54: TJ DUKLA PRAHA | B54: 4 | C54: 1 | D54: =$F$10*$D$15/$C$56*C54 -> 18329.143 | E54: =$F$10*$E$15*B54/$B$56 -> 681.40206 | F54: =(D54+E54) -> 19010.545 | G54: =F54/$F$56 -> 0.019558174
A56: Celkem: | B56: =SUM(B17:B54) -> 1940 | C56: =SUM(C17:C54) -> 35 | D56: =SUM(D17:D54) -> 641520 | E56: =SUM(E17:E54) -> 330480 | F56: =SUM(F17:F54) -> 972000 | G56: =SUM(G17:G54) -> 1
D57: =F10*D15 -> 641520 | E57: =F10*E15 -> 330480
E58: =E56+D56 -> 972000

Sheet 2.tranše
A1: Rozdělení prostředků z dotačního programu ČOV na období 2014 - druhá tranše
A4: Praha, srpen 2014
A5: Autor: D.Macháček, J. Johánek
A8: Zadání: transparentně rozdělit mezi veslařské kluby/oddíly prostředky z fondu ČOV tak, aby umožnili pořídit užitečný materiál či sportovní služby, které nelze nebo obtížně čerpat z jiných dotačních titul.Jedním z parametrů je aktivní klub, druhým počet registrovaných veslařů v kategoriích 7-18 let bez rozdílu výkonnosti.
B9: Program - LOTERIE ČOV
B10: Celkový objem financí : | F10: 901000
B14: počet unicitních závodníků do 18 let k 6-2014 | C14: index aktivity | D14: rozdělení 2014 - II.
D15: 0.66 | E15: =1-D15 -> 0.34
A16: Klub | B16: 2014 | D16: paušál na klub | E16: za závodníka | F16: celkem | G16: %
A17: VK SMÍCHOV | B17: 150 | C17: 1 | D17: =$F$10*$D$15/$C$56*C17 -> 16990.286 | E17: =$F$10*$E$15*B17/$B$56 -> 23686.082 | F17: =(D17+E17) -> 40676.368 | G17: =F17/$F$56 -> 0.045145803
A18: ČVK PARDUBICE | B18: 109 | C18: 1 | D18: =$F$10*$D$15/$C$56*C18 -> 16990.286 | E18: =$F$10*$E$15*B18/$B$56 -> 17211.887 | F18: =(D18+E18) -> 34202.172 | G18: =F18/$F$56 -> 0.037960236
A19: ČVK PRAHA | B19: 121 | C19: 1 | D19: =$F$10*$D$15/$C$56*C19 -> 16990.286 | E19: =$F$10*$E$15*B19/$B$56 -> 19106.773 | F19: =(D19+E19) -> 36097.059 | G19: =F19/$F$56 -> 0.040063328
A20: TJ BOHEMIANS PRAHA | B20: 129 | C20: 1 | D20: =$F$10*$D$15/$C$56*C20 -> 16990.286 | E20: =$F$10*$E$15*B20/$B$56 -> 20370.031 | F20: =(D20+E20) -> 37360.317 | G20: =F20/$F$56 -> 0.04146539
A21: VK OLOMOUC | B21: 85 | C21: 1 | D21: =$F$10*$D$15/$C$56*C21 -> 16990.286 | E21: =$F$10*$E$15*B21/$B$56 -> 13422.113 | F21: =(D21+E21) -> 30412.399 | G21: =F21/$F$56 -> 0.03375405
A22: TJ JISKRA OTROKOVICE | B22: 87 | C22: 1 | D22: =$F$10*$D$15/$C$56*C22 -> 16990.286 | E22: =$F$10*$E$15*B22/$B$56 -> 13737.928 | F22: =(D22+E22) -> 30728.214 | G22: =F22/$F$56 -> 0.034104566
A23: VK LYSÁ n.L. | B23: 62 | C23: 1 | D23: =$F$10*$D$15/$C$56*C23 -> 16990.286 | E23: =$F$10*$E$15*B23/$B$56 -> 9790.2474 | F23: =(D23+E23) -> 26780.533 | G23: =F23/$F$56 -> 0.029723122
A24: VK SLAVOJ LITOMĚŘICE | B24: 42 | C24: 1 | D24: =$F$10*$D$15/$C$56*C24 -> 16990.286 | E24: =$F$10*$E$15*B24/$B$56 -> 6632.1031 | F24: =(D24+E24) -> 23622.389 | G24: =F24/$F$56 -> 0.026217968
A25: VK BLESK | B25: 112 | C25: 1 | D25: =$F$10*$D$15/$C$56*C25 -> 16990.286 | E25: =$F$10*$E$15*B25/$B$56 -> 17685.608 | F25: =(D25+E25) -> 34675.894 | G25: =F25/$F$56 -> 0.038486009
A26: VK OHŘE LOUNY | B26: 44 | C26: 1 | D26: =$F$10*$D$15/$C$56*C26 -> 16990.286 | E26: =$F$10*$E$15*B26/$B$56 -> 6947.9175 | F26: =(D26+E26) -> 23938.203 | G26: =F26/$F$56 -> 0.026568483
A27: KV KONDOR BRANDÝS n.L. | B27: 38 | C27: 1 | D27: =$F$10*$D$15/$C$56*C27 -> 16990.286 | E27: =$F$10*$E$15*B27/$B$56 -> 6000.4742 | F27: =(D27+E27) -> 22990.76 | G27: =F27/$F$56 -> 0.025516937
A28: TJ LOKOMOTIVA BEROUN | B28: 63 | C28: 1 | D28: =$F$10*$D$15/$C$56*C28 -> 16990.286 | E28: =$F$10*$E$15*B28/$B$56 -> 9948.1546 | F28: =(D28+E28) -> 26938.44 | G28: =F28/$F$56 -> 0.02989838
... A54: TJ DUKLA PRAHA | B54: 4 | C54: 1 | D54: =$F$10*$D$15/$C$56*C54 -> 16990.286 | E54: =$F$10*$E$15*B54/$B$56 -> 631.62887 | F54: =(D54+E54) -> 17621.915 | G54: =F54/$F$56 -> 0.019558174
A56: Celkem: | B56: =SUM(B17:B54) -> 1940 | C56: =SUM(C17:C54) -> 35 | D56: =SUM(D17:D54) -> 594660 | E56: =SUM(E17:E54) -> 306340 | F56: =SUM(F17:F54) -> 901000 | G56: =SUM(G17:G54) -> 1
D57: =F10*D15 -> 594660 | E57: =F10*E15 -> 306340
E58: =E56+D56 -> 901000

Sheet 3.tranše
A1: Rozdělení prostředků z dotačního programu ČOV na období 2014 - třetí tranše
A4: Praha, listopad 2014
A5: Autor: D.Macháček, J. Johánek
A8: Zadání: transparentně rozdělit mezi veslařské kluby/oddíly prostředky z fondu ČOV tak, aby umožnili pořídit užitečný materiál či sportovní služby, které nelze nebo obtížně čerpat z jiných dotačních titul.Jedním z parametrů je aktivní klub, druhým počet registrovaných veslařů v kategoriích 7-18 let bez rozdílu výkonnosti.
B9: Program - LOTERIE ČOV
B10: Celkový objem financí : | F10: 1249000
B14: počet unicitních závodníků do 18 let k 8-2014 | C14: index aktivity | D14: rozdělení 2014 - III.
D15: 0.66 | E15: =1-D15 -> 0.34
A16: Klub | B16: 2014 | D16: paušál na klub | E16: za závodníka | F16: celkem | G16: %
A17: VK SMÍCHOV | B17: 203 | C17: 1 | D17: =$F$10*$D$15/$C$56*C17 -> 22898.333 | E17: =$F$10*$E$15*B17/$B$56 -> 47496.408 | F17: =(D17+E17) -> 70394.741 | G17: =F17/$F$56 -> 0.056360882
A18: ČVK PARDUBICE | B18: 102 | C18: 1 | D18: =$F$10*$D$15/$C$56*C18 -> 22898.333 | E18: =$F$10*$E$15*B18/$B$56 -> 23865.19 | F18: =(D18+E18) -> 46763.523 | G18: =F18/$F$56 -> 0.037440771
A19: ČVK PRAHA | B19: 79 | C19: 1 | D19: =$F$10*$D$15/$C$56*C19 -> 22898.333 | E19: =$F$10*$E$15*B19/$B$56 -> 18483.824 | F19: =(D19+E19) -> 41382.157 | G19: =F19/$F$56 -> 0.033132231
A20: TJ BOHEMIANS PRAHA | B20: 132 | C20: 1 | D20: =$F$10*$D$15/$C$56*C20 -> 22898.333 | E20: =$F$10*$E$15*B20/$B$56 -> 30884.364 | F20: =(D20+E20) -> 53782.697 | G20: =F20/$F$56 -> 0.043060606
A21: VK OLOMOUC | B21: 85 | C21: 1 | D21: =$F$10*$D$15/$C$56*C21 -> 22898.333 | E21: =$F$10*$E$15*B21/$B$56 -> 19887.658 | F21: =(D21+E21) -> 42785.992 | G21: =F21/$F$56 -> 0.034256198
A22: TJ JISKRA OTROKOVICE | B22: 87 | C22: 1 | D22: =$F$10*$D$15/$C$56*C22 -> 22898.333 | E22: =$F$10*$E$15*B22/$B$56 -> 20355.603 | F22: =(D22+E22) -> 43253.937 | G22: =F22/$F$56 -> 0.034630854
A23: VK LYSÁ n.L. | B23: 55 | C23: 1 | D23: =$F$10*$D$15/$C$56*C23 -> 22898.333 | E23: =$F$10*$E$15*B23/$B$56 -> 12868.485 | F23: =(D23+E23) -> 35766.818 | G23: =F23/$F$56 -> 0.028636364
A24: VK SLAVOJ LITOMĚŘICE | B24: 42 | C24: 1 | D24: =$F$10*$D$15/$C$56*C24 -> 22898.333 | E24: =$F$10*$E$15*B24/$B$56 -> 9826.843 | F24: =(D24+E24) -> 32725.176 | G24: =F24/$F$56 -> 0.026201102
A25: VK BLESK | B25: 48 | C25: 1 | D25: =$F$10*$D$15/$C$56*C25 -> 22898.333 | E25: =$F$10*$E$15*B25/$B$56 -> 11230.678 | F25: =(D25+E25) -> 34129.011 | G25: =F25/$F$56 -> 0.027325069
A26: VK OHŘE LOUNY | B26: 43 | C26: 1 | D26: =$F$10*$D$15/$C$56*C26 -> 22898.333 | E26: =$F$10*$E$15*B26/$B$56 -> 10060.815 | F26: =(D26+E26) -> 32959.149 | G26: =F26/$F$56 -> 0.02638843
A27: KV KONDOR BRANDÝS n.L. | B27: 38 | C27: 1 | D27: =$F$10*$D$15/$C$56*C27 -> 22898.333 | E27: =$F$10*$E$15*B27/$B$56 -> 8890.9532 | F27: =(D27+E27) -> 31789.287 | G27: =F27/$F$56 -> 0.025451791
A28: TJ LOKOMOTIVA BEROUN | B28: 63 | C28: 1 | D28: =$F$10*$D$15/$C$56*C28 -> 22898.333 | E28: =$F$10*$E$15*B28/$B$56 -> 14740.264 | F28: =(D28+E28) -> 37638.598 | G28: =F28/$F$56 -> 0.030134986
... A54: TJ DUKLA PRAHA | B54: 4 | C54: 1 | D54: =$F$10*$D$15/$C$56*C54 -> 22898.333 | E54: =$F$10*$E$15*B54/$B$56 -> 935.88981 | F54: =(D54+E54) -> 23834.223 | G54: =F54/$F$56 -> 0.019082645
A56: Celkem: | B56: =SUM(B17:B54) -> 1815 | C56: =SUM(C17:C54) -> 36 | D56: =SUM(D17:D54) -> 824340 | E56: =SUM(E17:E54) -> 424660 | F56: =SUM(F17:F54) -> 1249000 | G56: =SUM(G17:G54) -> 1
A57: Dle evidence členské základny k 15.8.2014 | D57: =F10*D15 -> 824340 | E57: =F10*E15 -> 424660
E58: =E56+D56 -> 1249000
A60: Rozdělení 3. tranše schváleno P-ČVS dne 12.11.2014

Sheet 4.tranše
A1: Rozdělení prostředků z dotačního programu ČOV - čtvrtá tranše
A4: Praha, leden 2015
A5: Autor: D.Macháček, J. Johánek
A7: Zadání: transparentně rozdělit mezi veslařské kluby/oddíly prostředky z fondu ČOV tak, aby umožnili pořídit užitečný materiál či sportovní služby, které nelze nebo obtížně čerpat z jiných dotačních titul.Jedním z parametrů je aktivní klub, druhým počet registrovaných veslařů v kategoriích 7-18 let bez rozdílu výkonnosti.
B8: Program - LOTERIE ČOV
B9: Celková částka 4. tranše | F9: 1684000
B11: Finance z 4. tranše k rozdělení do klubů | F11: =SUM(F9,-F12) -> 1184000
B12: Všeobecné výdaje - na mládež 2015 | F12: 500000
B14: počet unicitních závodníků do 18 let k 8-2014 | C14: index aktivity | D14: rozdělení IV. Tranše 2014
D15: 0.66 | E15: =1-D15 -> 0.34
A16: Klub | B16: 2014 | D16: paušál na klub | E16: za závodníka | F16: celkem | G16: %
A17: VK SMÍCHOV | B17: 203 | C17: 1 | D17: =$F$11*$D$15/$C$56*C17 -> 21706.667 | E17: =$F$11*$E$15*B17/$B$56 -> 45024.617 | F17: =(D17+E17) -> 66731.284 | G17: =F17/$F$56 -> 0.056360882
A18: ČVK PARDUBICE | B18: 102 | C18: 1 | D18: =$F$11*$D$15/$C$56*C18 -> 21706.667 | E18: =$F$11*$E$15*B18/$B$56 -> 22623.207 | F18: =(D18+E18) -> 44329.873 | G18: =F18/$F$56 -> 0.037440771
A19: ČVK PRAHA | B19: 79 | C19: 1 | D19: =$F$11*$D$15/$C$56*C19 -> 21706.667 | E19: =$F$11*$E$15*B19/$B$56 -> 17521.895 | F19: =(D19+E19) -> 39228.562 | G19: =F19/$F$56 -> 0.033132231
A20: TJ BOHEMIANS PRAHA | B20: 132 | C20: 1 | D20: =$F$11*$D$15/$C$56*C20 -> 21706.667 | E20: =$F$11*$E$15*B20/$B$56 -> 29277.091 | F20: =(D20+E20) -> 50983.758 | G20: =F20/$F$56 -> 0.043060606
A21: VK OLOMOUC | B21: 85 | C21: 1 | D21: =$F$11*$D$15/$C$56*C21 -> 21706.667 | E21: =$F$11*$E$15*B21/$B$56 -> 18852.672 | F21: =(D21+E21) -> 40559.339 | G21: =F21/$F$56 -> 0.034256198
A22: TJ JISKRA OTROKOVICE | B22: 87 | C22: 1 | D22: =$F$11*$D$15/$C$56*C22 -> 21706.667 | E22: =$F$11*$E$15*B22/$B$56 -> 19296.264 | F22: =(D22+E22) -> 41002.931 | G22: =F22/$F$56 -> 0.034630854
A23: VK LYSÁ n.L. | B23: 55 | C23: 1 | D23: =$F$11*$D$15/$C$56*C23 -> 21706.667 | E23: =$F$11*$E$15*B23/$B$56 -> 12198.788 | F23: =(D23+E23) -> 33905.455 | G23: =F23/$F$56 -> 0.028636364
A24: VK SLAVOJ LITOMĚŘICE | B24: 42 | C24: 1 | D24: =$F$11*$D$15/$C$56*C24 -> 21706.667 | E24: =$F$11*$E$15*B24/$B$56 -> 9315.438 | F24: =(D24+E24) -> 31022.105 | G24: =F24/$F$56 -> 0.026201102
A25: VK BLESK | B25: 48 | C25: 1 | D25: =$F$11*$D$15/$C$56*C25 -> 21706.667 | E25: =$F$11*$E$15*B25/$B$56 -> 10646.215 | F25: =(D25+E25) -> 32352.882 | G25: =F25/$F$56 -> 0.027325069
A26: VK OHŘE LOUNY | B26: 43 | C26: 1 | D26: =$F$11*$D$15/$C$56*C26 -> 21706.667 | E26: =$F$11*$E$15*B26/$B$56 -> 9537.2342 | F26: =(D26+E26) -> 31243.901 | G26: =F26/$F$56 -> 0.02638843
A27: KV KONDOR BRANDÝS n.L. | B27: 38 | C27: 1 | D27: =$F$11*$D$15/$C$56*C27 -> 21706.667 | E27: =$F$11*$E$15*B27/$B$56 -> 8428.2534 | F27: =(D27+E27) -> 30134.92 | G27: =F27/$F$56 -> 0.025451791
A28: TJ LOKOMOTIVA BEROUN | B28: 63 | C28: 1 | D28: =$F$11*$D$15/$C$56*C28 -> 21706.667 | E28: =$F$11*$E$15*B28/$B$56 -> 13973.157 | F28: =(D28+E28) -> 35679.824 | G28: =F28/$F$56 -> 0.030134986
... A54: TJ DUKLA PRAHA | B54: 4 | C54: 1 | D54: =$F$11*$D$15/$C$56*C54 -> 21706.667 | E54: =$F$11*$E$15*B54/$B$56 -> 887.18457 | F54: =(D54+E54) -> 22593.851 | G54: =F54/$F$56 -> 0.019082645
A56: Celkem: | B56: =SUM(B17:B54) -> 1815 | C56: =SUM(C17:C54) -> 36 | D56: =SUM(D17:D54) -> 781440 | E56: =SUM(E17:E54) -> 402560 | F56: =SUM(F17:F54) -> 1184000 | G56: =SUM(G17:G54) -> 1
A57: Dle evidence členské základny k 15.8.2014 | D57: =F11*D15 -> 781440 | E57: =F11*E15 -> 402560
E58: =E56+D56 -> 1184000
A60: Rozdělení schváleno P-ČVS dne 14.1.2015

Sheet 5.tranše
A1: Rozdělení prostředků z dotačního programu ČOV - pátá tranše
A4: Praha, květen 2015
A5: Autor: D.Macháček, J. Johánek
B7: Program - LOTERIE ČOV
B8: Celková částka 5. tranše | F8: 885000
B10: Finance z 5. tranše k rozdělení do klubů | F10: =SUM(F8,-F11) -> 685000
B11: Všeobecné výdaje - na mládež 2015 | F11: 200000
B14: počet unicitních závodníků do 18 let k 8-2014 | C14: index aktivity | D14: rozdělení V. tranše
D15: 0.66 | E15: =1-D15 -> 0.34
A16: Klub | B16: 2014 | D16: paušál na klub | E16: za závodníka | F16: celkem | G16: %
A17: VK SMÍCHOV | B17: 203 | C17: 1 | D17: =$F$10*$D$15/$C$56*C17 -> 12558.333 | E17: =$F$10*$E$15*B17/$B$56 -> 26048.871 | F17: =(D17+E17) -> 38607.204 | G17: =F17/$F$56 -> 0.056360882
A18: ČVK PARDUBICE | B18: 102 | C18: 1 | D18: =$F$10*$D$15/$C$56*C18 -> 12558.333 | E18: =$F$10*$E$15*B18/$B$56 -> 13088.595 | F18: =(D18+E18) -> 25646.928 | G18: =F18/$F$56 -> 0.037440771
A19: ČVK PRAHA | B19: 79 | C19: 1 | D19: =$F$10*$D$15/$C$56*C19 -> 12558.333 | E19: =$F$10*$E$15*B19/$B$56 -> 10137.245 | F19: =(D19+E19) -> 22695.579 | G19: =F19/$F$56 -> 0.033132231
A20: TJ BOHEMIANS PRAHA | B20: 132 | C20: 1 | D20: =$F$10*$D$15/$C$56*C20 -> 12558.333 | E20: =$F$10*$E$15*B20/$B$56 -> 16938.182 | F20: =(D20+E20) -> 29496.515 | G20: =F20/$F$56 -> 0.043060606
A21: VK OLOMOUC | B21: 85 | C21: 1 | D21: =$F$10*$D$15/$C$56*C21 -> 12558.333 | E21: =$F$10*$E$15*B21/$B$56 -> 10907.163 | F21: =(D21+E21) -> 23465.496 | G21: =F21/$F$56 -> 0.034256198
A22: TJ JISKRA OTROKOVICE | B22: 87 | C22: 1 | D22: =$F$10*$D$15/$C$56*C22 -> 12558.333 | E22: =$F$10*$E$15*B22/$B$56 -> 11163.802 | F22: =(D22+E22) -> 23722.135 | G22: =F22/$F$56 -> 0.034630854
A23: VK LYSÁ n.L. | B23: 55 | C23: 1 | D23: =$F$10*$D$15/$C$56*C23 -> 12558.333 | E23: =$F$10*$E$15*B23/$B$56 -> 7057.5758 | F23: =(D23+E23) -> 19615.909 | G23: =F23/$F$56 -> 0.028636364
A24: VK SLAVOJ LITOMĚŘICE | B24: 42 | C24: 1 | D24: =$F$10*$D$15/$C$56*C24 -> 12558.333 | E24: =$F$10*$E$15*B24/$B$56 -> 5389.4215 | F24: =(D24+E24) -> 17947.755 | G24: =F24/$F$56 -> 0.026201102
A25: VK BLESK | B25: 48 | C25: 1 | D25: =$F$10*$D$15/$C$56*C25 -> 12558.333 | E25: =$F$10*$E$15*B25/$B$56 -> 6159.3388 | F25: =(D25+E25) -> 18717.672 | G25: =F25/$F$56 -> 0.027325069
A26: VK OHŘE LOUNY | B26: 43 | C26: 1 | D26: =$F$10*$D$15/$C$56*C26 -> 12558.333 | E26: =$F$10*$E$15*B26/$B$56 -> 5517.741 | F26: =(D26+E26) -> 18076.074 | G26: =F26/$F$56 -> 0.02638843
A27: KV KONDOR BRANDÝS n.L. | B27: 38 | C27: 1 | D27: =$F$10*$D$15/$C$56*C27 -> 12558.333 | E27: =$F$10*$E$15*B27/$B$56 -> 4876.1433 | F27: =(D27+E27) -> 17434.477 | G27: =F27/$F$56 -> 0.025451791
A28: TJ LOKOMOTIVA BEROUN | B28: 63 | C28: 1 | D28: =$F$10*$D$15/$C$56*C28 -> 12558.333 | E28: =$F$10*$E$15*B28/$B$56 -> 8084.1322 | F28: =(D28+E28) -> 20642.466 | G28: =F28/$F$56 -> 0.030134986
... A54: TJ DUKLA PRAHA | B54: 4 | C54: 1 | D54: =$F$10*$D$15/$C$56*C54 -> 12558.333 | E54: =$F$10*$E$15*B54/$B$56 -> 513.27824 | F54: =(D54+E54) -> 13071.612 | G54: =F54/$F$56 -> 0.019082645
A56: Celkem: | B56: =SUM(B17:B54) -> 1815 | C56: =SUM(C17:C54) -> 36 | D56: =SUM(D17:D54) -> 452100 | E56: =SUM(E17:E54) -> 232900 | F56: =SUM(F17:F54) -> 685000 | G56: =SUM(G17:G54) -> 1
A57: Dle evidence členské základny k 15.8.2014 | D57: =F10*D15 -> 452100 | E57: =F10*E15 -> 232900
E58: =E56+D56 -> 685000
A60: Rozdělení schváleno P-ČVS dne 13.5.2015

Sheet 6.tranše
A1: Rozdělení prostředků z dotačního programu ČOV - šestá tranše
A4: Praha, srpen 2015
A5: Autor: D.Macháček, J. Johánek
B7: Program - LOTERIE ČOV
B8: Celková částka 6. tranše | F8: 1290000
B10: Finance z 6. tranše k rozdělení do klubů | F10: =SUM(F8,-F11) -> 990000
B11: Všeobecné výdaje - na mládež 2015 - 2016 | F11: 300000
B14: počet členů do 18 let k 8-2015 | C14: index aktivity | D14: rozdělení VI. tranše
D15: 0.5 | E15: =1-D15 -> 0.5
A16: Klub | B16: 2015 | D16: paušál na klub | E16: za závodníka | F16: celkem | G16: %
A17: VK SMÍCHOV | B17: 30 | C17: 1 | D17: =$F$10*$D$15/$C$58*C17 -> 13378.378 | E17: =$F$10*$E$15*B17/$B$58 -> 8300.7267 | F17: =(D17+E17) -> 21679.105 | G17: =F17/$F$58 -> 0.021898086
A18: ČVK PARDUBICE | B18: 89 | C18: 1 | D18: =$F$10*$D$15/$C$58*C18 -> 13378.378 | E18: =$F$10*$E$15*B18/$B$58 -> 24625.489 | F18: =(D18+E18) -> 38003.867 | G18: =F18/$F$58 -> 0.038387745
A19: ČVK PRAHA | B19: 70 | C19: 1 | D19: =$F$10*$D$15/$C$58*C19 -> 13378.378 | E19: =$F$10*$E$15*B19/$B$58 -> 19368.362 | F19: =(D19+E19) -> 32746.741 | G19: =F19/$F$58 -> 0.033077516
A20: TJ BOHEMIANS PRAHA | B20: 153 | C20: 1 | D20: =$F$10*$D$15/$C$58*C20 -> 13378.378 | E20: =$F$10*$E$15*B20/$B$58 -> 42333.706 | F20: =(D20+E20) -> 55712.084 | G20: =F20/$F$58 -> 0.056274833
A21: VK OLOMOUC | B21: 83 | C21: 1 | D21: =$F$10*$D$15/$C$58*C21 -> 13378.378 | E21: =$F$10*$E$15*B21/$B$58 -> 22965.344 | F21: =(D21+E21) -> 36343.722 | G21: =F21/$F$58 -> 0.03671083
A22: TJ JISKRA OTROKOVICE | B22: 91 | C22: 1 | D22: =$F$10*$D$15/$C$58*C22 -> 13378.378 | E22: =$F$10*$E$15*B22/$B$58 -> 25178.871 | F22: =(D22+E22) -> 38557.249 | G22: =F22/$F$58 -> 0.038946716
A23: VK LYSÁ n.L. | B23: 69 | C23: 1 | D23: =$F$10*$D$15/$C$58*C23 -> 13378.378 | E23: =$F$10*$E$15*B23/$B$58 -> 19091.671 | F23: =(D23+E23) -> 32470.05 | G23: =F23/$F$58 -> 0.03279803
A24: VK SLAVOJ LITOMĚŘICE | B24: 50 | C24: 1 | D24: =$F$10*$D$15/$C$58*C24 -> 13378.378 | E24: =$F$10*$E$15*B24/$B$58 -> 13834.544 | F24: =(D24+E24) -> 27212.923 | G24: =F24/$F$58 -> 0.027487801
A25: VK BLESK | B25: 47 | C25: 1 | D25: =$F$10*$D$15/$C$58*C25 -> 13378.378 | E25: =$F$10*$E$15*B25/$B$58 -> 13004.472 | F25: =(D25+E25) -> 26382.85 | G25: =F25/$F$58 -> 0.026649344
A26: VK OHŘE LOUNY | B26: 32 | C26: 1 | D26: =$F$10*$D$15/$C$58*C26 -> 13378.378 | E26: =$F$10*$E$15*B26/$B$58 -> 8854.1084 | F26: =(D26+E26) -> 22232.487 | G26: =F26/$F$58 -> 0.022457057
A27: KV KONDOR BRANDÝS n.L. | B27: 45 | C27: 1 | D27: =$F$10*$D$15/$C$58*C27 -> 13378.378 | E27: =$F$10*$E$15*B27/$B$58 -> 12451.09 | F27: =(D27+E27) -> 25829.468 | G27: =F27/$F$58 -> 0.026090372
A28: TJ LOKOMOTIVA BEROUN | B28: 45 | C28: 1 | D28: =$F$10*$D$15/$C$58*C28 -> 13378.378 | E28: =$F$10*$E$15*B28/$B$58 -> 12451.09 | F28: =(D28+E28) -> 25829.468 | G28: =F28/$F$58 -> 0.026090372
... A56: VŠSK MFF UK | B56: 1 | C56: 1 | D56: =$F$10*$D$15/$C$58*C56 -> 13378.378 | E56: =$F$10*$E$15*B56/$B$58 -> 276.69089 | F56: =(D56+E56) -> 13655.069 | G56: =F56/$F$58 -> 0.013792999
A58: Celkem: | B58: =SUM(B17:B56) -> 1789 | C58: =SUM(C17:C56) -> 37 | D58: =SUM(D17:D56) -> 495000 | E58: =SUM(E17:E56) -> 495000 | F58: =SUM(F17:F56) -> 990000 | G58: =SUM(G17:G54) -> 0.986207
A59: Dle evidence členské základny k 24.8.2015 | D59: =F10*D15 -> 495000 | E59: =F10*E15 -> 495000
E60: =E58+D58 -> 990000
A62: Rozdělení schváleno P-ČVS dne 27.8.2015

Sheet 7.tranše
A1: Rozdělení prostředků z dotačního programu ČOV - sedmá tranše
A4: Praha, listopad 2015
A5: Autor: D.Macháček, J. Johánek
B7: Program - LOTERIE ČOV
B8: Celková částka 7. tranše | F8: 1392000
B10: Finance z 7. tranše k rozdělení do klubů | F10: =SUM(F8,-F11) -> 1392000
B11: Všeobecné výdaje - na mládež 2015 - 2016
B14: počet členů do 18 let k 8-2015 | C14: index aktivity | D14: rozdělení VII. tranše
D15: 0.5 | E15: =1-D15 -> 0.5
A16: Klub | B16: 2015 | D16: paušál na klub | E16: za závodníka | F16: celkem | G16: %
A17: VK SMÍCHOV | B17: 30 | C17: 1 | D17: =$F$10*$D$15/$C$58*C17 -> 18810.811 | E17: =$F$10*$E$15*B17/$B$58 -> 11671.325 | F17: =(D17+E17) -> 30482.136 | G17: =F17/$F$58 -> 0.021898086
A18: ČVK PARDUBICE | B18: 89 | C18: 1 | D18: =$F$10*$D$15/$C$58*C18 -> 18810.811 | E18: =$F$10*$E$15*B18/$B$58 -> 34624.93 | F18: =(D18+E18) -> 53435.741 | G18: =F18/$F$58 -> 0.038387745
A19: ČVK PRAHA | B19: 70 | C19: 1 | D19: =$F$10*$D$15/$C$58*C19 -> 18810.811 | E19: =$F$10*$E$15*B19/$B$58 -> 27233.091 | F19: =(D19+E19) -> 46043.902 | G19: =F19/$F$58 -> 0.033077516
A20: TJ BOHEMIANS PRAHA | B20: 153 | C20: 1 | D20: =$F$10*$D$15/$C$58*C20 -> 18810.811 | E20: =$F$10*$E$15*B20/$B$58 -> 59523.756 | F20: =(D20+E20) -> 78334.567 | G20: =F20/$F$58 -> 0.056274833
A21: VK OLOMOUC | B21: 83 | C21: 1 | D21: =$F$10*$D$15/$C$58*C21 -> 18810.811 | E21: =$F$10*$E$15*B21/$B$58 -> 32290.665 | F21: =(D21+E21) -> 51101.476 | G21: =F21/$F$58 -> 0.03671083
A22: TJ JISKRA OTROKOVICE | B22: 91 | C22: 1 | D22: =$F$10*$D$15/$C$58*C22 -> 18810.811 | E22: =$F$10*$E$15*B22/$B$58 -> 35403.018 | F22: =(D22+E22) -> 54213.829 | G22: =F22/$F$58 -> 0.038946716
A23: VK LYSÁ n.L. | B23: 69 | C23: 1 | D23: =$F$10*$D$15/$C$58*C23 -> 18810.811 | E23: =$F$10*$E$15*B23/$B$58 -> 26844.047 | F23: =(D23+E23) -> 45654.858 | G23: =F23/$F$58 -> 0.03279803
A24: VK SLAVOJ LITOMĚŘICE | B24: 50 | C24: 1 | D24: =$F$10*$D$15/$C$58*C24 -> 18810.811 | E24: =$F$10*$E$15*B24/$B$58 -> 19452.208 | F24: =(D24+E24) -> 38263.019 | G24: =F24/$F$58 -> 0.027487801
A25: VK BLESK | B25: 47 | C25: 1 | D25: =$F$10*$D$15/$C$58*C25 -> 18810.811 | E25: =$F$10*$E$15*B25/$B$58 -> 18285.075 | F25: =(D25+E25) -> 37095.886 | G25: =F25/$F$58 -> 0.026649344
A26: VK OHŘE LOUNY | B26: 32 | C26: 1 | D26: =$F$10*$D$15/$C$58*C26 -> 18810.811 | E26: =$F$10*$E$15*B26/$B$58 -> 12449.413 | F26: =(D26+E26) -> 31260.224 | G26: =F26/$F$58 -> 0.022457057
A27: KV KONDOR BRANDÝS n.L. | B27: 45 | C27: 1 | D27: =$F$10*$D$15/$C$58*C27 -> 18810.811 | E27: =$F$10*$E$15*B27/$B$58 -> 17506.987 | F27: =(D27+E27) -> 36317.798 | G27: =F27/$F$58 -> 0.026090372
A28: TJ LOKOMOTIVA BEROUN | B28: 45 | C28: 1 | D28: =$F$10*$D$15/$C$58*C28 -> 18810.811 | E28: =$F$10*$E$15*B28/$B$58 -> 17506.987 | F28: =(D28+E28) -> 36317.798 | G28: =F28/$F$58 -> 0.026090372
... A56: VŠSK MFF UK | B56: 1 | C56: 1 | D56: =$F$10*$D$15/$C$58*C56 -> 18810.811 | E56: =$F$10*$E$15*B56/$B$58 -> 389.04416 | F56: =(D56+E56) -> 19199.855 | G56: =F56/$F$58 -> 0.013792999
A58: Celkem: | B58: =SUM(B17:B56) -> 1789 | C58: =SUM(C17:C56) -> 37 | D58: =SUM(D17:D56) -> 696000 | E58: =SUM(E17:E56) -> 696000 | F58: =SUM(F17:F56) -> 1392000 | G58: =SUM(G17:G54) -> 0.986207
A59: Dle evidence členské základny k 24.8.2015 | D59: =F10*D15 -> 696000 | E59: =F10*E15 -> 696000
E60: =E58+D58 -> 1392000
A62: Rozdělení schváleno P-ČVS dne 18.11.2015
