Workbook

Sheet  ŽLV - celkově
A1: ŽENY LV
C2: I.kolo Ostrava | E2: II.kolo Pardubice | G2: III.kolo Olomouc | I2: POHÁR | K2: celkem
A3: Příjmení, jméno | B3: Univerzita | C3: Čas | D3: Body | E3: čas | F3: body | G3: čas | H3: body | I3: celkem | J3: pořadí | K3: univerzita | L3: žLV
A4: Mrázová Markéta | B4: UP Olomouc | C4: 9:21.2 | D4: 13 | E4: 0 | F4: 0 | G4: 0 | H4: 0 | I4: =SUM(D4+F4+H4) -> 13 | J4: 5. | K4: =SUM(I4:I5) -> 46 | L4: UP Olomouc
A5: Honzíčková Kristýna | B5: UP Olomouc | C5: 9:22.6 | D5: 11 | E5: 0.0063935185 | F5: 9 | G5: 0.00659375 | H5: 13 | I5: =SUM(D5+F5+H5) -> 33 | J5: 1.
A6: Stoklasová Lucie | B6: UK Praha | C6: 8:01.9 | D6: 15 | E6: 0.0056759259 | F6: 15 | G6: 0 | H6: 0 | I6: =SUM(D6+F6+H6) -> 30 | J6: 2. | K6: =SUM(I6) -> 30 | L6: UK Praha
A7: Remešová Jana | B7: UNI Pardubice | C7: 0 | D7: 0 | E7: 0.0060914352 | F7: 13 | G7: 0.0059652778 | H7: 15 | I7: =SUM(D7+F7+H7) -> 28 | J7: 3. | K7: =SUM(I7:I8) -> 39 | L7: UNI Pardubice | N7: lepší čas | O7: než Spanelová
A8: Zemanová Kristýna | B8: UNI Pardubice | C8: 0 | D8: 0 | E8: 0.0063576389 | F8: 11 | G8: 0 | H8: 0 | I8: =SUM(D8+F8+H8) -> 11 | J8: 6.
A9: Spanelová Kristýna | B9: VŠB-TU Ostrava | C9: 9:45.4 | D9: 9 | E9: 0.0067916667 | F9: 8 | G9: 0.0067407407 | H9: 11 | I9: =SUM(D9+F9+H9) -> 28 | J9: 4. | K9: =SUM(I9:I10) -> 28 | L9: VŠB-TU Ostrava
A10: Mičke Bianka | B10: VŠB-TU Ostrava | C10: 0 | D10: 0 | E10: 0 | F10: 0 | G10: 0 | H10: 0 | I10: =SUM(D10+F10+H10) -> 0 | J10: DNS
K11: 0 | L11: VUT Brno

Sheet M LV- celkově
A1: MUŽI LV
D2: I.kolo Ostrava | E2: II.kolo Pardubice | G2: III. kolo | H2: Olomouc | I2: pohár | K2: celkem
A3: Příjmení, jméno | B3: Univerzita | C3: Čas | D3: Body | E3: čas | F3: body | G3: čas | H3: body | I3: celkem | J3: pořadí | K3: univerzita | L3: mLV
A4: Jansa Jan | B4: UP Olomouc | C4: 8:23.3 | D4: 5 | E4: 0 | F4: 0 | G4: 0.0050266204 | H4: 7 | I4: =SUM(D4+F4+H4) -> 12 | J4: 9. | K4: =SUM(I4:I6) -> 32 | L4: UP Olomouc
A5: Rypl Martin | B5: UP Olomouc | C5: 0 | D5: 0 | E5: 0 | F5: 0 | G5: 0.0048935185 | H5: 13 | I5: =SUM(D5+F5+H5) -> 13 | J5: 8.
A6: Knedla Denis | B6: UP Olomouc | C6: 0 | D6: 0 | E6: 0.0051643519 | F6: 7 | G6: 0 | H6: 0 | I6: =SUM(D6+F6+H6) -> 7 | J6: 12.
A7: Polický Adam | B7: UK Praha | C7: 7:08.0 | D7: 13 | E7: 0.0049421296 | F7: 13 | G7: 0.0049861111 | H7: 8 | I7: =SUM(D7+F7+H7) -> 34 | J7: 2. | K7: =SUM(I7) -> 34 | L7: UK Praha
A8: Halík Tomáš | B8: UNI Pardubice | C8: 7:22.7 | D8: 9 | E8: 0 | F8: 0 | G8: 0 | H8: 0 | I8: =SUM(D8+F8+H8) -> 9 | J8: 11. | K8: =SUM(I8:I10) -> 40 | L8: UNI Pardubice
A9: Mašín Jindřich | B9: UNI Pardubice | C9: 7:43.7 | D9: 6 | E9: 0.0051898148 | F9: 6 | G9: 0.0052743056 | H9: 5 | I9: =SUM(D9+F9+H9) -> 17 | J9: 5.-6.
A10: Slovák David | B10: UNI Pardubice | C10: 0 | D10: 0 | E10: 0.0050752315 | F10: 8 | G10: 0.0051145833 | H10: 6 | I10: =SUM(D10+F10+H10) -> 14 | J10: 7.
A11: Riečičiar Marcel | B11: VŠB-TU Ostrava | C11: 7:07.9 | D11: 15 | E11: 0.0049502315 | F11: 11 | G11: 0.0049293981 | H11: 11 | I11: =SUM(D11+F11+H11) -> 37 | J11: 1. | K11: =SUM(I11:I14) -> 91 | L11: VŠB-TU Ostrava
A12: Kvita Jindřich | B12: VŠB-TU Ostrava | C12: 7:28.8 | D12: 8 | E12: 0.0053125 | F12: 5 | G12: 0.0053125 | H12: 4 | I12: =SUM(D12+F12+H12) -> 17 | J12: 5.-6.
A13: Kiebžak Jiří | B13: VŠB-TU Ostrava | C13: 7:33.7 | D13: 7 | E13: 0 | F13: 0 | G13: 0 | H13: 0 | I13: =SUM(D13+F13+H13) -> 7 | J13: 13.
A14: Koleňák Petr | B14: VŠB-TU Ostrava | C14: 0 | D14: 0 | E14: 0.0048472222 | F14: 15 | G14: 0.0048368056 | H14: 15 | I14: =SUM(D14+F14+H14) -> 30 | J14: 3.
A15: Pristaš Jan | B15: VUT Brno | C15: 7:13.9 | D15: 11 | E15: 0 | F15: 0 | G15: 0 | H15: 0 | I15: =SUM(D15+F15+H15) -> 11 | J15: 10. | K15: =SUM(I15:I16) -> 29 | L15: VUT Brno
A16: Glogar Jaroslav | B16: VUT Brno | C16: 0 | D16: 0 | E16: 0.004974537 | F16: 9 | G16: 0.0049398148 | H16: 9 | I16: =SUM(D16+F16+H16) -> 18 | J16: 4.
E20: .

Sheet Ž - celkově
A1: ŽENY
C2: I.kolo Ostrava | E2: II.kolo Pardubice | G2: III.kolo Olomouc | K2: celkem
A3: Příjmení, jméno | B3: Univerzita | C3: Čas | D3: body | E3: čas | F3: body | G3: čas | H3: body | I3: celkem | J3: pořadí | K3: univerzita | L3: Ž
A4: Spurná Kristýna | B4: UP Olomouc | C4: 0 | D4: 0 | E4: 0.0062696759 | F4: 2 | G4: 0.0060868056 | H4: 6 | I4: =SUM(D4+F4+H4) -> 8 | J4: 14. | K4: =SUM(I4:I6) -> 26 | L4: UP Olomouc
A5: Prchalová Kateřina | B5: UP Olomouc | C5: 0 | D5: 0 | E5: 0.0055798611 | F5: 9 | G5: 0.0055069444 | H5: 9 | I5: =SUM(D5+F5+H5) -> 18 | J5: 5.
A6: Chmelová Kateřina | B6: UP Olomouc | C6: 0 | D6: 0 | E6: 0 | F6: 0 | G6: 0 | H6: 0 | I6: =SUM(D6+F6+H6) -> 0 | J6: DNS
A7: Bulínová Adéla | B7: UK Praha | C7: 9:06.2 | D7: 6 | E7: 0.0061319444 | F7: 3 | G7: 0.0062465278 | H7: 5 | I7: =SUM(D7+F7+H7) -> 14 | J7: 8. | K7: =SUM(I7:I10) -> 64 | L7: UK Praha
A8: Škvorová Tereza | B8: UK Praha | C8: 0 | D8: 0 | E8: 0.0052152778 | F8: 15 | G8: 0 | H8: 0 | I8: =SUM(D8+F8+H8) -> 15 | J8: 7.
A9: Buzrlová Anežka | B9: UK Praha | C9: 0 | D9: 0 | E9: 0.0053472222 | F9: 11 | G9: 0.0052083333 | H9: 13 | I9: =SUM(D9+F9+H9) -> 24 | J9: 2.
A10: Dvořáková Eliška | B10: UK Praha | C10: 0 | D10: 0 | E10: 0 | F10: 0 | G10: 0.0052696759 | H10: 11 | I10: =SUM(D10+F10+H10) -> 11 | J10: 11.
A11: Kostelníková Anna | B11: UNI Pardubice | C11: 8:03.3 | D11: 15 | E11: 0 | F11: 0 | G11: 0.0057372685 | H11: 7 | I11: =SUM(D11+F11+H11) -> 22 | J11: 3. | K11: =SUM(I11:I15) -> 80 | L11: UNI Pardubice
A12: Pálková Kateřina | B12: UNI Pardubice | C12: 8:07.8 | D12: 13 | E12: 0.0057048611 | F12: 6 | G12: 0 | H12: 0 | I12: =SUM(D12+F12+H12) -> 19 | J12: 4.
A13: Punarová Barbora | B13: UNI Pardubice | C13: 8:32.1 | D13: 8 | E13: 0.0058414352 | F13: 5 | G13: 0 | H13: 0 | I13: =SUM(D13+F13+H13) -> 13 | J13: 10.
A14: Šimková Zuzana | B14: UNI Pardubice | C14: 8:34.0 | D14: 7 | E14: 0.0059282407 | F14: 4 | G14: 0 | H14: 0 | I14: =SUM(D14+F14+H14) -> 11 | J14: 13.
A15: Příhodová Kateřina | B15: UNI Pardubice | C15: 0 | D15: 0 | E15: 0 | F15: 0 | G15: 0.0052060185 | H15: 15 | I15: =SUM(D15+F15+H15) -> 15 | J15: 6.
A16: Jirásková Adéla | B16: VŠB-TU Ostrava | C16: 8:17.1 | D16: 11 | E16: 0 | F16: 0 | G16: 0 | H16: 0 | I16: =SUM(D16+F16+H16) -> 11 | J16: 12. | K16: =SUM(I16) -> 11 | L16: VŠB-TU Ostrava
A17: Šuláková Helena | B17: VUT Brno | C17: 8:21.6 | D17: 9 | E17: 0.0056863426 | F17: 8 | G17: 0.0057118056 | H17: 8 | I17: =SUM(D17+F17+H17) -> 25 | J17: 1. | K17: =SUM(I17:I21) -> 45 | L17: VUT Brno
A18: Konopová Tamara | B18: VUT Brno | C18: 0 | D18: 0 | E18: 0.0053148148 | F18: 13 | G18: 0 | H18: 0 | I18: =SUM(D18+F18+H18) -> 13 | J18: 9.
A19: Odstrčilová Anna | B19: VUT Brno | C19: 0 | D19: 0 | E19: 0.005693287 | F19: 7 | G19: 0 | H19: 0 | I19: =SUM(D19+F19+H19) -> 7 | J19: 15.
A20: Klusáčková Petra | B20: VUT Brno | C20: 0 | D20: 0 | E20: 0 | F20: 0 | G20: 0 | H20: 0 | I20: =SUM(D20+F20+H20) -> 0 | J20: DNS
A21: Brázdová Veronika | B21: VUT Brno | C21: 0 | D21: 0 | E21: 0 | F21: 0 | G21: 0 | H21: 0 | I21: =SUM(D21+F21+H21) -> 0 | J21: DNS
E22: .

Sheet M - celkově
N1: celkové pořadí
A2: MUŽI | C2: I.kolo Ostrava | E2: II.kolo Pardubice | G2: III.kolo Olomouc | K2: celkem | O2: Příjmení, jméno | P2: Univerzita | Q2: Čas | R2: Body | S2: čas | T2: body | U2: čas | V2: body | W2: celkem | X2: pořadí
A3: Příjmení, jméno | B3: Univerzita | C3: Čas | D3: Body | E3: čas | F3: body | G3: čas | H3: body | I3: celkem | K3: univerzita | L3: m | O3: Neuman Martin | P3: UK Praha | Q3: ne | R3: 0 | S3: 0.0044513889 | T3: 13 | U3: 0.0044398148 | V3: 13 | W3: =SUM(R3+T3+V3) -> 26 | X3: 1.
A4: Cáhlík Lukáš | B4: UP Olomouc | C4: 7:54.5 | D4: 0 | E4: ne | F4: 0 | G4: 0 | H4: 0 | I4: =SUM(D4+F4+H4) -> 0 | K4: =SUM(I4:I10) -> 26 | L4: UP Olomouc | O4: Munzar Jan | P4: VŠB-TU Ostrava | Q4: 6:57.5 | R4: 9 | S4: 0.0047708333 | T4: 6 | U4: 0.0047905093 | V4: 4 | W4: =SUM(R4+T4+V4) -> 19 | X4: 2.
A5: Lukáš Jan | B5: UP Olomouc | C5: 7:22.9 | D5: 0 | E5: ne | F5: 0 | G5: 0 | H5: 0 | I5: =SUM(D5+F5+H5) -> 0 | O5: Juráš Filip | P5: VUT Brno | Q5: ne | R5: 0 | S5: 0.0046238426 | T5: 9 | U5: 0.0045729167 | V5: 8 | W5: =SUM(R5+T5+V5) -> 17 | X5: 3.
A6: Pavliš Petr | B6: UP Olomouc | C6: ne | D6: 0 | E6: 0.0048715278 | F6: 4 | G6: 0.0047881944 | H6: 5 | I6: =SUM(D6+F6+H6) -> 9 | O6: Mařík Antonín | P6: UK Praha | Q6: ne | R6: 0 | S6: 0.0044270833 | T6: 15 | U6: 0 | V6: 0 | W6: =SUM(R6+T6+V6) -> 15 | X6: 4.-7.
A7: Rypl Martin | B7: UP Olomouc | C7: 0 | D7: 0 | E7: 0 | F7: 0 | G7: 0 | H7: 0 | I7: =SUM(D7+F7+H7) -> 0 | O7: Tikal Matěj | P7: UK Praha | Q7: 0 | R7: 0 | S7: 0 | T7: 0 | U7: 0.0042962963 | V7: 15 | W7: =SUM(R7+T7+V7) -> 15
A8: Šujan Vojtěch | B8: UP Olomouc | C8: 6:59.5 | D8: 8 | E8: 0 | F8: 0 | G8: 0 | H8: 0 | I8: =SUM(D8+F8+H8) -> 8 | O8: Bartošek Martin | P8: UNI Pardubice | Q8: 6:45.4 | R8: 15 | S8: 0 | T8: 0 | U8: 0 | V8: 0 | W8: =SUM(R8+T8+V8) -> 15
A9: Kováč Ondřej | B9: UP Olomouc | C9: 0 | D9: 0 | E9: 0 | F9: 0 | G9: 0.0048206019 | H9: 3 | I9: =SUM(D9+F9+H9) -> 3 | O9: Husar Tomáš | P9: VUT Brno | Q9: ne | R9: 0 | S9: 0.0046851852 | T9: 8 | U9: 0.0046423611 | V9: 7 | W9: =SUM(R9+T9+V9) -> 15
A10: Těšík Filip | B10: UP Olomouc | C10: 7:03.2 | D10: 6 | E10: 0 | F10: 0 | G10: 0 | H10: 0 | I10: =SUM(D10+F10+H10) -> 6 | O10: Kroupa Jan | P10: UNI Pardubice | Q10: 6:54.3 | R10: 13 | S10: 0.0048993056 | T10: 1 | U10: 0 | V10: 0 | W10: =SUM(R10+T10+V10) -> 14 | X10: 8.
A11: Hellebrand Jaroslav | B11: UK Praha | C11: 0 | D11: 0 | E11: 0 | F11: 0 | G11: 0.0044710648 | H11: 11 | I11: =SUM(D11+F11+H11) -> 11 | K11: =SUM(I11:I17) -> 79 | L11: UK Praha | O11: Bednář Radim | P11: UNI Pardubice | Q11: ne | R11: 0 | S11: 0.0046875 | T11: 7 | U11: 0.0047071759 | V11: 6 | W11: =SUM(R11+T11+V11) -> 13 | X11: 9.
A12: Jech Miroslav | B12: UK Praha | C12: 0 | D12: 0 | E12: 0 | F12: 0 | G12: 0.004494213 | H12: 9 | I12: =SUM(D12+F12+H12) -> 9 | O12: Hellebrand Jaroslav | P12: UK Praha | Q12: 0 | R12: 0 | S12: 0 | T12: 0 | U12: 0.0044710648 | V12: 11 | W12: =SUM(R12+T12+V12) -> 11 | X12: 10.-12.
A13: Marko Jakub | B13: UK Praha | C13: 7:16.2 | D13: 0 | E13: 0.0048796296 | F13: 2 | G13: 0 | H13: 0 | I13: =SUM(D13+F13+H13) -> 2 | O13: Král David | P13: UNI Pardubice | Q13: 6:54.6 | R13: 11 | S13: 0 | T13: 0 | U13: 0 | V13: 0 | W13: =SUM(R13+T13+V13) -> 11
A14: Marko Jakub | B14: UK Praha | C14: 0 | D14: 0 | E14: 0 | F14: 0 | G14: 0.0049224537 | H14: 1 | I14: =SUM(D14+F14+H14) -> 1 | O14: Němec Jan | P14: UNI Pardubice | Q14: ne | R14: 0 | S14: 0.0045902778 | T14: 11 | U14: 0 | V14: 0 | W14: =SUM(R14+T14+V14) -> 11
A15: Mařík Antonín | B15: UK Praha | C15: ne | D15: 0 | E15: 0.0044270833 | F15: 15 | G15: 0 | H15: 0 | I15: =SUM(D15+F15+H15) -> 15 | O15: Brožek Stanislav | P15: VŠB-TU Ostrava | Q15: 7:04.9 | R15: 5 | S15: 0.0048449074 | T15: 5 | U15: 0 | V15: 0 | W15: =SUM(R15+T15+V15) -> 10 | X15: 13.
A16: Neuman Martin | B16: UK Praha | C16: ne | D16: 0 | E16: 0.0044513889 | F16: 13 | G16: 0.0044398148 | H16: 13 | I16: =SUM(D16+F16+H16) -> 26 | J16: 1. | O16: Pavliš Petr | P16: UP Olomouc | Q16: ne | R16: 0 | S16: 0.0048715278 | T16: 4 | U16: 0.0047881944 | V16: 5 | W16: =SUM(R16+T16+V16) -> 9 | X16: 14.-15.
A17: Tikal Matěj | B17: UK Praha | C17: 0 | D17: 0 | E17: 0 | F17: 0 | G17: 0.0042962963 | H17: 15 | I17: =SUM(D17+F17+H17) -> 15 | O17: Jech Miroslav | P17: UK Praha | Q17: 0 | R17: 0 | S17: 0 | T17: 0 | U17: 0.004494213 | V17: 9 | W17: =SUM(R17+T17+V17) -> 9
A18: Bartošek Martin | B18: UNI Pardubice | C18: 6:45.4 | D18: 15 | E18: 0 | F18: 0 | G18: 0 | H18: 0 | I18: =SUM(D18+F18+H18) -> 15 | K18: =SUM(I18:I29) -> 69 | L18: UNI Pardubice | O18: Šujan Vojtěch | P18: UP Olomouc | Q18: 6:59.5 | R18: 8 | S18: 0 | T18: 0 | U18: 0 | V18: 0 | W18: =SUM(R18+T18+V18) -> 8 | X18: 16.
A19: Bednář Radim | B19: UNI Pardubice | C19: ne | D19: 0 | E19: 0.0046875 | F19: 7 | G19: 0.0047071759 | H19: 6 | I19: =SUM(D19+F19+H19) -> 13 | O19: Dulaj Jan | P19: VŠB-TU Ostrava | Q19: 7:00.2 | R19: 7 | S19: 0.0049409722 | T19: 0 | U19: 0.0050046296 | V19: 0 | W19: =SUM(R19+T19+V19) -> 7 | X19: 17.
A20: Bělský Patrik | B20: UNI Pardubice | C20: ne | D20: 0 | E20: 0.0052372685 | F20: 0 | G20: 0 | H20: 0 | I20: =SUM(D20+F20+H20) -> 0 | O20: Těšík Filip | P20: UP Olomouc | Q20: 7:03.2 | R20: 6 | S20: 0 | T20: 0 | U20: 0 | V20: 0 | W20: =SUM(R20+T20+V20) -> 6 | X20: 18.
A21: Fišer Dominik | B21: UNI Pardubice | C21: 7:09.5 | D21: 2 | E21: 0.0050185185 | F21: 0 | G21: 0 | H21: 0 | I21: =SUM(D21+F21+H21) -> 2 | O21: Hruška Ladislav | P21: VŠB-TU Ostrava | Q21: 7:05.5 | R21: 4 | S21: 0.0052002315 | T21: 0 | U21: 0.0051805556 | V21: 0 | W21: =SUM(R21+T21+V21) -> 4 | X21: 19.
A22: Halík Tomáš | B22: UNI Pardubice | C22: ne | D22: 0 | E22: 0.0051284722 | F22: 0 | G22: 0.0051296296 | H22: 0 | I22: =SUM(D22+F22+H22) -> 0 | O22: Kováč Ondřej | P22: UP Olomouc | Q22: 0 | R22: 0 | S22: 0 | T22: 0 | U22: 0.0048206019 | V22: 3 | W22: =SUM(R22+T22+V22) -> 3 | X22: 20.-22.
A23: Hojka Přemysl | B23: UNI Pardubice | C23: 7:36.2 | D23: 0 | E23: 0.0050509259 | F23: 0 | G23: 0 | H23: 0 | I23: =SUM(D23+F23+H23) -> 0 | O23: Kubeš Michal | P23: UNI Pardubice | Q23: ne | R23: 0 | S23: 0.0048796296 | T23: 3 | U23: 0 | V23: 0 | W23: =SUM(R23+T23+V23) -> 3
A24: Král David | B24: UNI Pardubice | C24: 6:54.6 | D24: 11 | E24: 0 | F24: 0 | G24: 0 | H24: 0 | I24: =SUM(D24+F24+H24) -> 11 | O24: Novák Vít | P24: VUT Brno | Q24: 7:08.9 | R24: 3 | S24: ne | T24: 0 | U24: 0 | V24: 0 | W24: =SUM(R24+T24+V24) -> 3
A25: Kroupa Jan | B25: UNI Pardubice | C25: 6:54.3 | D25: 13 | E25: 0.0048993056 | F25: 1 | G25: 0 | H25: 0 | I25: =SUM(D25+F25+H25) -> 14 | O25: Marko Jakub | P25: UK Praha | Q25: 7:16.2 | R25: 0 | S25: 0.0048796296 | T25: 2 | U25: 0 | V25: 0 | W25: =SUM(R25+T25+V25) -> 2 | X25: 23.-25.
A26: Kubeš Michal | B26: UNI Pardubice | C26: ne | D26: 0 | E26: 0.0048796296 | F26: 3 | G26: 0 | H26: 0 | I26: =SUM(D26+F26+H26) -> 3 | O26: Fišer Dominik | P26: UNI Pardubice | Q26: 7:09.5 | R26: 2 | S26: 0.0050185185 | T26: 0 | U26: 0 | V26: 0 | W26: =SUM(R26+T26+V26) -> 2
A27: Meszaroš Patrik | B27: UNI Pardubice | C27: ne | D27: 0 | E27: 0.0052372685 | F27: 0 | G27: 0 | H27: 0 | I27: =SUM(D27+F27+H27) -> 0 | O27: Velička Martin | P27: VŠB-TU Ostrava | Q27: ne | R27: 0 | S27: 0.0049351852 | T27: 0 | U27: 0.0049039352 | V27: 2 | W27: =SUM(R27+T27+V27) -> 2
A28: Němec Jan | B28: UNI Pardubice | C28: ne | D28: 0 | E28: 0.0045902778 | F28: 11 | G28: 0 | H28: 0 | I28: =SUM(D28+F28+H28) -> 11 | O28: Marko Jakub | P28: UK Praha | Q28: 0 | R28: 0 | S28: 0 | T28: 0 | U28: 0.0049224537 | V28: 1 | W28: =SUM(R28+T28+V28) -> 1 | X28: 26.-27.
A29: Slovák David | B29: UNI Pardubice | C29: ne | D29: 0 | E29: 0.0050752315 | F29: 0 | G29: 0 | H29: 0 | I29: =SUM(D29+F29+H29) -> 0 | O29: Sehnal Dominik | P29: VUT Brno | Q29: 7:14.7 | R29: 1 | S29: ne | T29: 0 | U29: 0.0052083333 | V29: 0 | W29: =SUM(R29+T29+V29) -> 1 | X29: 28.
A30: Brožek Stanislav | B30: VŠB-TU Ostrava | C30: 7:04.9 | D30: 5 | E30: 0.0048449074 | F30: 5 | G30: 0 | H30: 0 | I30: =SUM(D30+F30+H30) -> 10 | K30: =SUM(I30:I37) -> 42 | L30: VŠB-TU Ostrava | O30: Cáhlík Lukáš | P30: UP Olomouc | Q30: 7:54.5 | R30: 0 | S30: ne | T30: 0 | U30: 0 | V30: 0 | W30: =SUM(R30+T30+V30) -> 0
A31: Cahel Tomáš | B31: VŠB-TU Ostrava | C31: 7:41.4 | D31: 0 | E31: ne | F31: 0 | G31: 0 | H31: 0 | I31: =SUM(D31+F31+H31) -> 0 | O31: Lukáš Jan | P31: UP Olomouc | Q31: 7:22.9 | R31: 0 | S31: ne | T31: 0 | U31: 0 | V31: 0 | W31: =SUM(R31+T31+V31) -> 0
A32: Dulaj Jan | B32: VŠB-TU Ostrava | C32: 7:00.2 | D32: 7 | E32: 0.0049409722 | F32: 0 | G32: 0.0050046296 | H32: 0 | I32: =SUM(D32+F32+H32) -> 7 | O32: Rypl Martin | P32: UP Olomouc | Q32: 0 | R32: 0 | S32: 0 | T32: 0 | U32: 0 | V32: 0 | W32: =SUM(R32+T32+V32) -> 0 | X32: DNS
A33: Hruška Ladislav | B33: VŠB-TU Ostrava | C33: 7:05.5 | D33: 4 | E33: 0.0052002315 | F33: 0 | G33: 0.0051805556 | H33: 0 | I33: =SUM(D33+F33+H33) -> 4 | O33: Bělský Patrik | P33: UNI Pardubice | Q33: ne | R33: 0 | S33: 0.0052372685 | T33: 0 | U33: 0 | V33: 0 | W33: =SUM(R33+T33+V33) -> 0
A34: Michalík Mário | B34: VŠB-TU Ostrava | C34: 7:18.8 | D34: 0 | E34: ne | F34: 0 | G34: 0 | H34: 0 | I34: =SUM(D34+F34+H34) -> 0 | O34: Halík Tomáš | P34: UNI Pardubice | Q34: ne | R34: 0 | S34: 0.0051284722 | T34: 0 | U34: 0.0051296296 | V34: 0 | W34: =SUM(R34+T34+V34) -> 0
A35: Munzar Jan | B35: VŠB-TU Ostrava | C35: 6:57.5 | D35: 9 | E35: 0.0047708333 | F35: 6 | G35: 0.0047905093 | H35: 4 | I35: =SUM(D35+F35+H35) -> 19 | J35: 2. | O35: Hojka Přemysl | P35: UNI Pardubice | Q35: 7:36.2 | R35: 0 | S35: 0.0050509259 | T35: 0 | U35: 0 | V35: 0 | W35: =SUM(R35+T35+V35) -> 0
A36: Pergl Ivo | B36: VŠB-TU Ostrava | C36: 7:16.4 | D36: 0 | E36: 0.0051898148 | F36: 0 | G36: 0 | H36: 0 | I36: =SUM(D36+F36+H36) -> 0 | O36: Meszaroš Patrik | P36: UNI Pardubice | Q36: ne | R36: 0 | S36: 0.0052372685 | T36: 0 | U36: 0 | V36: 0 | W36: =SUM(R36+T36+V36) -> 0
A37: Velička Martin | B37: VŠB-TU Ostrava | C37: ne | D37: 0 | E37: 0.0049351852 | F37: 0 | G37: 0.0049039352 | H37: 2 | I37: =SUM(D37+F37+H37) -> 2 | O37: Slovák David | P37: UNI Pardubice | Q37: ne | R37: 0 | S37: 0.0050752315 | T37: 0 | U37: 0 | V37: 0 | W37: =SUM(R37+T37+V37) -> 0
A38: Husar Tomáš | B38: VUT Brno | C38: ne | D38: 0 | E38: 0.0046851852 | F38: 8 | G38: 0.0046423611 | H38: 7 | I38: =SUM(D38+F38+H38) -> 15 | K38: =SUM(I38:I43) -> 36 | L38: VUT Brno | O38: Cahel Tomáš | P38: VŠB-TU Ostrava | Q38: 7:41.4 | R38: 0 | S38: ne | T38: 0 | U38: 0 | V38: 0 | W38: =SUM(R38+T38+V38) -> 0
A39: Juráš Filip | B39: VUT Brno | C39: ne | D39: 0 | E39: 0.0046238426 | F39: 9 | G39: 0.0045729167 | H39: 8 | I39: =SUM(D39+F39+H39) -> 17 | J39: 3. | O39: Michalík Mário | P39: VŠB-TU Ostrava | Q39: 7:18.8 | R39: 0 | S39: ne | T39: 0 | U39: 0 | V39: 0 | W39: =SUM(R39+T39+V39) -> 0
A40: Novák Vít | B40: VUT Brno | C40: 7:08.9 | D40: 3 | E40: ne | F40: 0 | G40: 0 | H40: 0 | I40: =SUM(D40+F40+H40) -> 3 | O40: Pergl Ivo | P40: VŠB-TU Ostrava | Q40: 7:16.4 | R40: 0 | S40: 0.0051898148 | T40: 0 | U40: 0 | V40: 0 | W40: =SUM(R40+T40+V40) -> 0
A41: Petr Vít | B41: VUT Brno | C41: 7:25.2 | D41: 0 | E41: 0.0051030093 | F41: 0 | G41: 0 | H41: 0 | I41: =SUM(D41+F41+H41) -> 0 | O41: Petr Vít | P41: VUT Brno | Q41: 7:25.2 | R41: 0 | S41: 0.0051030093 | T41: 0 | U41: 0 | V41: 0 | W41: =SUM(R41+T41+V41) -> 0
A42: Sehnal Dominik | B42: VUT Brno | C42: 7:14.7 | D42: 1 | E42: ne | F42: 0 | G42: 0.0052083333 | H42: 0 | I42: =SUM(D42+F42+H42) -> 1 | O42: Kubica Jan | P42: VUT Brno | Q42: 0 | R42: 0 | S42: 0 | T42: 0 | U42: 0.0049861111 | V42: 0 | W42: =SUM(R42+T42+V42) -> 0
A43: Kubica Jan | B43: VUT Brno | C43: 0 | D43: 0 | E43: 0 | F43: 0 | G43: 0.0049861111 | H43: 0 | I43: =SUM(D43+F43+H43) -> 0

Sheet Fours MIX - celkově
A1: FOURS MIX
C3: I.kolo Ostrava | E3: II.kolo Pardubice | G3: III.kolo Olomouc | I3: celkem
A4: Tým | B4: Sestava | C4: metry | D4: body | E4: metry | F4: body | G4: metry | H4: body | I4: univerzita | J4: MIX
A5: UNI Pardubice „A“ | B5: Remešová, Horníková, Němec, Král | C5: 1109 | D5: 15 | E5: 1116 | F5: 15 | G5: 1079 | H5: 9 | I5: =SUM(D5+F5+H5) -> 39 | J5: UNI Pardubice
A6: UK Praha | B6: Bulínová, Mičke, Jansa, Lukáš | C6: 1061 | D6: 13 | E6: 1108 | F6: 13 | G6: 0 | H6: 0 | I6: =SUM(D6+F6+H6) -> 26 | J6: UK Praha
A7: VŠB-TU Ostrava | B7: Spanelová, Jirásková, Hruška, Dulaj | C7: 1015 | D7: 11 | E7: 996 | F7: 9 | G7: 0 | H7: 0 | I7: =SUM(D7+F7+H7) -> 20 | J7: VŠB-TU Ostrava
A8: UP Olomouc A | B8: Prchalová, Spurná, Pavliš, Knedla | C8: 977 | D8: 9 | E8: 1056 | F8: 11 | G8: 1091 | H8: 13 | I8: =SUM(D8+F8+H8+I9+I10) -> 48 | J8: UP Olomouc
A9: UP Olomouc B | B9: Mrázová, Chmelová, Rypl, Šujan | C9: 0 | D9: 0 | E9: 0 | F9: 0 | G9: 1056 | H9: 8 | I9: =SUM(D9+F9+H9) -> 8
A10: UP Olomouc C | B10: Jansa, Lukáš, Čermáková, Honzíčková | C10: 0 | D10: 0 | E10: 0 | F10: 0 | G10: 1018 | H10: 7 | I10: =SUM(D10+F10+H10) -> 7
A11: VUT Brno | B11: Vítek Petr, Klusáčková, Brázdová,.. | C11: 0 | D11: 0 | E11: 0 | F11: 0 | G11: 1089 | H11: 11 | I11: =SUM(D11+F11+H11+I12) -> 25 | J11: VUT Brno
A12: VUT Brno | B12: Konopová, Šuláková, ……… | C12: 0 | D12: 0 | E12: 0 | F12: 0 | G12: 1140 | H12: 14 | I12: =SUM(D12+F12+H12) -> 14
E31: .

Sheet Fours Ž - celkově
A1: FOURS ŽENY
C3: I.kolo Ostrava | E3: II.kolo Pardubice | G3: III.kolo Olomouc | I3: body
A4: Tým | B4: Sestava | C4: metry | D4: body | E4: metry | F4: body | G4: metry | H4: body | I4: celkem | J4: 4 ženy
A5: UNI Pardubice „B“ + UK Praha | B5: Remešová, Kostelníková,Horníková (Pard), Stoklasová (UK) | C5: 1000 | D5: 11.25 | E5: 994 | F5: 8.25 | G5: 0 | H5: 0 | I5: =SUM(D5+F5+H5) -> 19.5
A6: UNI Pardubice „A“ | B6: Pálková,Šimková, Punarová, Pokorná | C6: 959 | D6: 13 | E6: 998 | F6: 9 | G6: 970 | H6: 11 | I6: =SUM(D6+F6+H6+I5) -> 52.5 | J6: UNI Pardubice
A7: UK Praha | B7: Škvorová,Buzrlová,Kupková,Žabová | C7: ne | D7: 3.75 | E7: 1064 | F7: 17.75 | G7: 0 | H7: 0 | I7: =SUM(D7+F7+H7) -> 21.5 | J7: UK Praha
A8: VUT Brno | B8: Knopová,Velová,Šuláková,Odstrčilová | C8: ne | D8: 0 | E8: 1043 | F8: 13 | G8: 1030 | H8: 15 | I8: =SUM(D8+F8+H8) -> 28 | J8: VUT Brno
A9: UP Olomouc | B9: Prchalová,Spurná, Honzíčková, Chmelová | C9: ne | D9: 0 | E9: 948 | F9: 8 | G9: 995 | H9: 13 | I9: =SUM(D9+F9+H9) -> 21 | J9: UP Olomouc
I10: 0 | J10: VŠB-TU Ostrava
G12: 1004 | J12: nadšenci
E16: .

Sheet Fours M - celkově
A1: FOURS MUŽI
C3: I.kolo Ostrava | E3: II.kolo Pardubice | G3: III.kolo Olomouc | I3: body
A4: Tým | B4: Sestava | C4: metry | D4: body | E4: metry | F4: body | G4: metry | H4: body | I4: celkem | J4: 4 muži
A5: UP Olomouc | B5: Lukáš, Těšík, Šujen, Cahlík | C5: 1134 | D5: 8 | E5: ne | F5: 0 | G5: 1166 | H5: 11 | I5: =SUM(D5+F5+H5) -> 19 | J5: UP Olomouc
A6: UNI Pardubice „A“ | B6: Král, Bartošek, Němec, Hojka,Fišer | C6: 1168 | D6: 13 | E6: 1186 | F6: 13 | G6: 1119 | H6: 7 | I6: =SUM(D6+F6+H6+I7) -> 53 | J6: UNI Pardubice
A7: UNI Pardubice „B“ | B7: Mašín,Fišer,Kroupa,Halík,Slovák | C7: 1144 | D7: 11 | E7: 1142 | F7: 9 | G7: 0 | H7: 0 | I7: =SUM(D7+F7+H7) -> 20
A8: VŠB-TU Ostrava „A“ | B8: Hruška, Dulaj, Munzar, Brožek | C8: 1186 | D8: 15 | E8: 1181 | F8: 11 | G8: 1207 | H8: 13 | I8: =SUM(D8+F8+H8+I9) -> 63 | J8: VŠB-TU Ostrava
A9: VŠB-TU Ostrava „B“ | B9: Pergl,Cahel,Riečičiar, Kvita,Velička,Koleňák | C9: 1102 | D9: 7 | E9: 1141 | F9: 8 | G9: 1129 | H9: 9 | I9: =SUM(D9+F9+H9) -> 24
A10: VUT Brno "A" | B10: Vítek, Novák, Pristaš, Sehnal,Husar,Filip,Vitula, Petr | C10: 1138 | D10: 9 | E10: 1192 | F10: 15 | G10: 1224 | H10: 15 | I10: =SUM(D10+F10+H10+I11+I12) -> 47 | J10: VUT Brno
A11: VUT Brno B | B11: Pristaš, Glogar, Sehnal, Sikora | C11: 0 | D11: 0 | E11: 0 | F11: 0 | G11: 1128 | H11: 8 | I11: =SUM(D11+F11+H11) -> 8
A12: VUT Brno C | B12: Havlíček, Hrubý, Kaman, Lukoianov | C12: 0 | D12: 0 | E12: 0 | F12: 0 | G12: 0 | H12: 0 | I12: =SUM(D12+F12+H12) -> 0
I13: 0 | J13: UK Praha
E23: .

Sheet Pohár celkově
A1: Body v Poháru univerzit 2017/18 celkově:
C3: celkově za I.-III.kolo | I3: body
A4: Univerzita | B4: žLV | C4: mLV | D4: ž | E4: m | F4: čtyřka MIX | G4: čtyřka Ž | H4: čtyřka M | I4: celkem | J4: pořadí
A5: UNI Pardubice | B5: =SUM(' ŽLV - celkově'!K7) -> 39 | C5: =SUM('M LV- celkově'!K8) -> 40 | D5: =SUM('Ž - celkově'!K11) -> 80 | E5: =SUM('M - celkově'!K18) -> 69 | F5: =SUM('Fours MIX - celkově'!I5) -> 39 | G5: =SUM('Fours Ž - celkově'!I6) -> 52.5 | H5: =SUM('Fours M - celkově'!I6) -> 53 | I5: =SUM(B5:H5) -> 372.5 | J5: 1.
A6: VŠB-TU Ostrava | B6: =SUM(' ŽLV - celkově'!K9) -> 28 | C6: =SUM('M LV- celkově'!K11) -> 91 | D6: =SUM('Ž - celkově'!K16) -> 11 | E6: =SUM('M - celkově'!K30) -> 42 | F6: =SUM('Fours MIX - celkově'!I7) -> 20 | G6: =SUM('Fours Ž - celkově'!I10) -> 0 | H6: =SUM('Fours M - celkově'!I8) -> 63 | I6: =SUM(B6:H6) -> 255 | J6: 2.
A7: UP Olomouc | B7: =SUM(' ŽLV - celkově'!K4) -> 46 | C7: =SUM('M LV- celkově'!K4) -> 32 | D7: =SUM('Ž - celkově'!K4) -> 26 | E7: =SUM('M - celkově'!K4) -> 26 | F7: =SUM('Fours MIX - celkově'!I8) -> 48 | G7: =SUM('Fours Ž - celkově'!I9) -> 21 | H7: =SUM('Fours M - celkově'!I5) -> 19 | I7: =SUM(B7:H7) -> 218 | J7: 4.
A8: UK Praha | B8: =SUM(' ŽLV - celkově'!K6) -> 30 | C8: =SUM('M LV- celkově'!K7) -> 34 | D8: =SUM('Ž - celkově'!K7) -> 64 | E8: =SUM('M - celkově'!K11) -> 79 | F8: =SUM('Fours MIX - celkově'!I6) -> 26 | G8: =SUM('Fours Ž - celkově'!I7) -> 21.5 | H8: =SUM('Fours M - celkově'!I13) -> 0 | I8: =SUM(B8:H8) -> 254.5 | J8: 3.
A9: VUT Brno | B9: =SUM(' ŽLV - celkově'!K11) -> 0 | C9: =SUM('M LV- celkově'!K15) -> 29 | D9: =SUM('Ž - celkově'!K17) -> 45 | E9: =SUM('M - celkově'!K38) -> 36 | F9: =SUM('Fours MIX - celkově'!I11) -> 25 | G9: =SUM('Fours Ž - celkově'!I8) -> 28 | H9: =SUM('Fours M - celkově'!I10) -> 47 | I9: =SUM(B9:H9) -> 210 | J9: 5.
B12: I.kolo | C12: II.kolo | D12: III.kolo
A13: Univerzita | B13: Body | C13: Body | D13: Body | F13: body | G13: pořadí
A14: UNI Pardubice | B14: 162.25 | C14: 129.25 | D14: =I43 -> 81 | F14: =SUM(B14:D14) -> 372.5
A15: VŠB-TU Ostrava | B15: 108 | C15: 78 | D15: =I44 -> 69 | F15: =SUM(B15:D15) -> 255
A16: UP Olomouc | B16: 60 | C16: 50 | D16: =I45 -> 108 | F16: =SUM(B16:D16) -> 218
A17: UK Praha | B17: 50.75 | C17: 117.75 | D17: =I46 -> 86 | F17: =SUM(B17:D17) -> 254.5
A18: VUT Brno | B18: 33 | C18: 82 | D18: =I47 -> 95 | F18: =SUM(B18:D18) -> 210
B22: I. Kolo
A23: Univerzita | B23: žLV | C23: mLV | D23: ž | E23: m | F23: čtyřka MIX | G23: čtyřka Ž | H23: čtyřka M | I23: Celkem
A24: Univerzita Pardubice | B24: 0 | C24: 15 | D24: 43 | E24: 41 | F24: 15 | G24: 24.25 | H24: 24 | I24: =SUM(B24:H24) -> 162.25
A25: VŠB-TU Ostrava | B25: 9 | C25: 30 | D25: 11 | E25: 25 | F25: 11 | G25: 0 | H25: 22 | I25: =SUM(B25:H25) -> 108
A26: UP Olomouc | B26: 24 | C26: 5 | D26: 0 | E26: 14 | F26: 9 | G26: 0 | H26: 8 | I26: =SUM(B26:H26) -> 60
A27: UK Praha | B27: 15 | C27: 13 | D27: 6 | E27: 0 | F27: 13 | G27: 3.75 | H27: 0 | I27: =SUM(B27:H27) -> 50.75
A28: VUT Brno | B28: 0 | C28: 11 | D28: 9 | E28: 4 | F28: 0 | G28: 0 | H28: 9 | I28: =SUM(B28:H28) -> 33
B29: =SUM(B24:B28) -> 48 | C29: =SUM(C24:C28) -> 74 | D29: =SUM(D24:D28) -> 69 | E29: =SUM(E24:E28) -> 84 | F29: =SUM(F24:F28) -> 48 | G29: =SUM(G24:G28) -> 28 | H29: =SUM(H24:H28) -> 63
B32: II. Kolo
A33: Univerzita | B33: žLV | C33: mLV | D33: ž | E33: m | F33: čtyřka MIX | G33: čtyřka Ž | H33: čtyřka M | I33: Celkem
A34: Univerzita Pardubice | B34: 24 | C34: 14 | D34: 15 | E34: 22 | F34: 15 | G34: 17.25 | H34: 22 | I34: =SUM(B34:H34) -> 129.25
A35: VŠB-TU Ostrava | B35: 8 | C35: 31 | D35: 0 | E35: 11 | F35: 9 | G35: 0 | H35: 19 | I35: =SUM(B35:H35) -> 78
A36: UP Olomouc | B36: 9 | C36: 7 | D36: 11 | E36: 4 | F36: 11 | G36: 8 | H36: 0 | I36: =SUM(B36:H36) -> 50
A37: UK Praha | B37: 15 | C37: 13 | D37: 29 | E37: 30 | F37: 13 | G37: 17.75 | H37: 0 | I37: =SUM(B37:H37) -> 117.75
A38: VUT Brno | B38: 0 | C38: 9 | D38: 28 | E38: 17 | F38: 0 | G38: 13 | H38: 15 | I38: =SUM(B38:H38) -> 82
B41: III. Kolo
A42: Univerzita | B42: žLV | C42: mLV | D42: ž | E42: m | F42: čtyřka MIX | G42: čtyřka Ž | H42: čtyřka M | I42: Celkem
A43: Univerzita Pardubice | B43: =SUM(' ŽLV - celkově'!H7:H8) -> 15 | C43: =SUM('M LV- celkově'!H8:H10) -> 11 | D43: =SUM('Ž - celkově'!H11:H15) -> 22 | E43: =SUM('M - celkově'!H18:H29) -> 6 | F43: ='Fours MIX - celkově'!H5 -> 9 | G43: =SUM('Fours Ž - celkově'!H5:H6) -> 11 | H43: =SUM('Fours M - celkově'!H6:H7) -> 7 | I43: =SUM(B43:H43) -> 81
A44: VŠB-TU Ostrava | B44: =SUM(' ŽLV - celkově'!H9:H10) -> 11 | C44: =SUM('M LV- celkově'!H11:H14) -> 30 | D44: ='Ž - celkově'!H16 -> 0 | E44: =SUM('M - celkově'!H30:H37) -> 6 | F44: ='Fours MIX - celkově'!H7 -> 0 | G44: ='Fours Ž - celkově'!H10 -> 0 | H44: =SUM('Fours M - celkově'!H8:H9) -> 22 | I44: =SUM(B44:H44) -> 69
A45: UP Olomouc | B45: =SUM(' ŽLV - celkově'!H4:H5) -> 13 | C45: =SUM('M LV- celkově'!H4:H6) -> 20 | D45: =SUM('Ž - celkově'!H4:H6) -> 15 | E45: =SUM('M - celkově'!H4:H10) -> 8 | F45: =SUM('Fours MIX - celkově'!H8:H10) -> 28 | G45: ='Fours Ž - celkově'!H9 -> 13 | H45: ='Fours M - celkově'!H5 -> 11 | I45: =SUM(B45:H45) -> 108
A46: UK Praha | B46: =' ŽLV - celkově'!H6 -> 0 | C46: =SUM('M LV- celkově'!H7) -> 8 | D46: =SUM('Ž - celkově'!H7:H10) -> 29 | E46: =SUM('M - celkově'!H11:H17) -> 49 | F46: ='Fours MIX - celkově'!H6 -> 0 | G46: ='Fours Ž - celkově'!H7 -> 0 | H46: ='Fours M - celkově'!H13 -> 0 | I46: =SUM(B46:H46) -> 86
A47: VUT Brno | B47: =' ŽLV - celkově'!H11 -> 0 | C47: =SUM('M LV- celkově'!H15:H16) -> 9 | D47: =SUM('Ž - celkově'!H17:H21) -> 8 | E47: =SUM('M - celkově'!H38:H43) -> 15 | F47: =SUM('Fours MIX - celkově'!H11:H12) -> 25 | G47: ='Fours Ž - celkově'!H8 -> 15 | H47: =SUM('Fours M - celkově'!H10:H12) -> 23 | I47: =SUM(B47:H47) -> 95
